BEGIN:VCALENDAR
VERSION:2.0
PRODID:-//Catholic Charities of Brooklyn &amp; Queens - ECPv6.15.20//NONSGML v1.0//EN
CALSCALE:GREGORIAN
METHOD:PUBLISH
X-WR-CALNAME:Catholic Charities of Brooklyn &amp; Queens
X-ORIGINAL-URL:https://www.ccbq.org
X-WR-CALDESC:Events for Catholic Charities of Brooklyn &amp; Queens
REFRESH-INTERVAL;VALUE=DURATION:PT1H
X-Robots-Tag:noindex
X-PUBLISHED-TTL:PT1H
BEGIN:VTIMEZONE
TZID:America/New_York
BEGIN:DAYLIGHT
TZOFFSETFROM:-0500
TZOFFSETTO:-0400
TZNAME:EDT
DTSTART:20240310T070000
END:DAYLIGHT
BEGIN:STANDARD
TZOFFSETFROM:-0400
TZOFFSETTO:-0500
TZNAME:EST
DTSTART:20241103T060000
END:STANDARD
BEGIN:DAYLIGHT
TZOFFSETFROM:-0500
TZOFFSETTO:-0400
TZNAME:EDT
DTSTART:20250309T070000
END:DAYLIGHT
BEGIN:STANDARD
TZOFFSETFROM:-0400
TZOFFSETTO:-0500
TZNAME:EST
DTSTART:20251102T060000
END:STANDARD
BEGIN:DAYLIGHT
TZOFFSETFROM:-0500
TZOFFSETTO:-0400
TZNAME:EDT
DTSTART:20260308T070000
END:DAYLIGHT
BEGIN:STANDARD
TZOFFSETFROM:-0400
TZOFFSETTO:-0500
TZNAME:EST
DTSTART:20261101T060000
END:STANDARD
END:VTIMEZONE
BEGIN:VEVENT
DTSTART;TZID=America/New_York:20250530T100000
DTEND;TZID=America/New_York:20250530T140000
DTSTAMP:20260420T143821
CREATED:20250331T184810Z
LAST-MODIFIED:20250407T181311Z
UID:325808-1748599200-1748613600@www.ccbq.org
SUMMARY:Food Stamp and Nutrition Outreach Program
DESCRIPTION:Join us for our Food Stamp and Nutrition Outreach Program! \nClick here to download the Flyer.
URL:https://www.ccbq.org/event/food-stamp-and-nutrition-outreach-program/
LOCATION:Sheepshead-Nostrand NORC Senior Center
ATTACH;FMTTYPE=image/png:https://www.ccbq.org/wp-content/uploads/2025/03/Screenshot-2025-03-27-114013.png
END:VEVENT
BEGIN:VEVENT
DTSTART;TZID=America/New_York:20250529T123000
DTEND;TZID=America/New_York:20250529T133000
DTSTAMP:20260420T143821
CREATED:20250219T135625Z
LAST-MODIFIED:20250514T142325Z
UID:325033-1748521800-1748525400@www.ccbq.org
SUMMARY:Men's Club!
DESCRIPTION:Join us for Men’s Club and more! \nClick here for more information.
URL:https://www.ccbq.org/event/mens-club-2/
LOCATION:Sheepshead-Nostrand NORC Senior Center
ATTACH;FMTTYPE=image/png:https://www.ccbq.org/wp-content/uploads/2025/02/Screenshot-2025-02-19-123018.png
END:VEVENT
BEGIN:VEVENT
DTSTART;TZID=America/New_York:20250528T080000
DTEND;TZID=America/New_York:20250528T160000
DTSTAMP:20260420T143821
CREATED:20250522T194718Z
LAST-MODIFIED:20250522T194838Z
UID:326561-1748419200-1748448000@www.ccbq.org
SUMMARY:Sheepshead-Nostrand Handmade Crafts Workshop! 5/28
DESCRIPTION:Join us at Sheepshead-Nostrand NORC on Wednesday\, May 28th for a Handmade Crafts Workshop! \nSee the Calendar below for more information.
URL:https://www.ccbq.org/event/sheepshead-nostrand-handmade-crafts-workshop-5-28/
LOCATION:Sheepshead-Nostrand NORC Senior Center
ATTACH;FMTTYPE=image/jpeg:https://www.ccbq.org/wp-content/uploads/2021/08/NORC-2-rotated.jpg
END:VEVENT
BEGIN:VEVENT
DTSTART;TZID=America/New_York:20250527T080000
DTEND;TZID=America/New_York:20250527T160000
DTSTAMP:20260420T143821
CREATED:20250522T194322Z
LAST-MODIFIED:20250522T194323Z
UID:326559-1748332800-1748361600@www.ccbq.org
SUMMARY:Sheepshead-Nostrand Walking Club! 5/27
DESCRIPTION:Join us at Sheepshead-Nostrand NORC on Tuesday\, May 27th for Walking Club and a Blood Pressure Screening at The Bay Older Adult Center! \nSee the Calendar below for more information.
URL:https://www.ccbq.org/event/sheepshead-nostrand-walking-club-5-27/
LOCATION:Sheepshead-Nostrand NORC Senior Center
ATTACH;FMTTYPE=image/jpeg:https://www.ccbq.org/wp-content/uploads/2021/08/NORC-2-rotated.jpg
END:VEVENT
BEGIN:VEVENT
DTSTART;TZID=America/New_York:20250523T080000
DTEND;TZID=America/New_York:20250523T160000
DTSTAMP:20260420T143821
CREATED:20250516T184031Z
LAST-MODIFIED:20250516T184032Z
UID:326477-1747987200-1748016000@www.ccbq.org
SUMMARY:Sheepshead-Nostrand Blood Pressure Screening! 5/23
DESCRIPTION:Join us at Sheepshead-Nostrand NORC on Friday\, May 23rd for a Blood Pressure Screening at the Kings Bay Library and more! \nSee the Calendar below for more information.
URL:https://www.ccbq.org/event/sheepshead-nostrand-blood-pressure-screening-5-23/
LOCATION:Sheepshead-Nostrand NORC Senior Center
ATTACH;FMTTYPE=image/jpeg:https://www.ccbq.org/wp-content/uploads/2021/08/NORC-2-rotated.jpg
END:VEVENT
BEGIN:VEVENT
DTSTART;TZID=America/New_York:20250522T123000
DTEND;TZID=America/New_York:20250522T133000
DTSTAMP:20260420T143821
CREATED:20250219T142337Z
LAST-MODIFIED:20250331T192148Z
UID:325043-1747917000-1747920600@www.ccbq.org
SUMMARY:House Planting for Enthusiasts!
DESCRIPTION:Join us for House Planting for Enthusiasts and more! \nClick here for more information.
URL:https://www.ccbq.org/event/house-planting-for-enthusiasts/
LOCATION:Sheepshead-Nostrand NORC Senior Center
ATTACH;FMTTYPE=image/png:https://www.ccbq.org/wp-content/uploads/2025/02/Screenshot-2025-02-19-122558.png
END:VEVENT
BEGIN:VEVENT
DTSTART;TZID=America/New_York:20250521T100000
DTEND;TZID=America/New_York:20250521T113000
DTSTAMP:20260420T143821
CREATED:20250218T212920Z
LAST-MODIFIED:20250514T144247Z
UID:325029-1747821600-1747827000@www.ccbq.org
SUMMARY:Crocheting Workshop!
DESCRIPTION:Join us for a Crocheting Workshop and more! \nClick here for more information.
URL:https://www.ccbq.org/event/crocheting-workshop/
LOCATION:Sheepshead-Nostrand NORC Senior Center
ATTACH;FMTTYPE=image/png:https://www.ccbq.org/wp-content/uploads/2025/02/Screenshot-2025-02-19-121019.png
END:VEVENT
BEGIN:VEVENT
DTSTART;TZID=America/New_York:20250520T090000
DTEND;TZID=America/New_York:20250520T150000
DTSTAMP:20260420T143821
CREATED:20250514T150119Z
LAST-MODIFIED:20250514T150120Z
UID:326404-1747731600-1747753200@www.ccbq.org
SUMMARY:NYCHA Mobile Van Assistance
DESCRIPTION:Join us for NYCHA Mobile Van Assistance! \nClick here to download the Flyer.
URL:https://www.ccbq.org/event/nycha-mobile-van-assistance/
LOCATION:Sheepshead-Nostrand NORC Senior Center
ATTACH;FMTTYPE=image/png:https://www.ccbq.org/wp-content/uploads/2025/05/Screenshot-2025-05-13-090659.png
END:VEVENT
BEGIN:VEVENT
DTSTART;TZID=America/New_York:20250519T110000
DTEND;TZID=America/New_York:20250519T120000
DTSTAMP:20260420T143821
CREATED:20250219T140716Z
LAST-MODIFIED:20250514T142048Z
UID:325037-1747652400-1747656000@www.ccbq.org
SUMMARY:Virtual Loteria Mexican Bingo!
DESCRIPTION:Join us for Virtual Loteria Mexican Bingo and more! \nClick here for more information.
URL:https://www.ccbq.org/event/bingo/
LOCATION:Sheepshead-Nostrand NORC Senior Center
ATTACH;FMTTYPE=image/png:https://www.ccbq.org/wp-content/uploads/2025/02/Screenshot-2025-02-19-101333.png
END:VEVENT
BEGIN:VEVENT
DTSTART;TZID=America/New_York:20250516T080000
DTEND;TZID=America/New_York:20250516T160000
DTSTAMP:20260420T143821
CREATED:20250514T163001Z
LAST-MODIFIED:20250514T163003Z
UID:326418-1747382400-1747411200@www.ccbq.org
SUMMARY:Sheepshead-Nostrand Blood Pressure Screening! 5/16
DESCRIPTION:Join us at Sheepshead-Nostrand NORC on Friday\, May 16th for a Blood Pressure Screening at the Kings Bay Library! \nSee the Calendar below for more information.
URL:https://www.ccbq.org/event/sheepshead-nostrand-blood-pressure-screening-5-16/
LOCATION:Sheepshead-Nostrand NORC Senior Center
ATTACH;FMTTYPE=image/jpeg:https://www.ccbq.org/wp-content/uploads/2021/08/NORC-2-rotated.jpg
END:VEVENT
BEGIN:VEVENT
DTSTART;TZID=America/New_York:20250514T080000
DTEND;TZID=America/New_York:20250514T160000
DTSTAMP:20260420T143821
CREATED:20250514T161222Z
LAST-MODIFIED:20250514T161223Z
UID:326416-1747209600-1747238400@www.ccbq.org
SUMMARY:Sheepshead-Nostrand Handmade Crafts Workshop! 5/14
DESCRIPTION:Join us at Sheepshead-Nostrand NORC on Wednesday\, May 14th for a Handmade Crafts Workshop! \nSee the Calendar below for more information.
URL:https://www.ccbq.org/event/sheepshead-nostrand-handmade-crafts-workshop-5-14/
LOCATION:Sheepshead-Nostrand NORC Senior Center
ATTACH;FMTTYPE=image/jpeg:https://www.ccbq.org/wp-content/uploads/2021/08/NORC-2-rotated.jpg
END:VEVENT
BEGIN:VEVENT
DTSTART;TZID=America/New_York:20250513T080000
DTEND;TZID=America/New_York:20250513T160000
DTSTAMP:20260420T143821
CREATED:20250514T155530Z
LAST-MODIFIED:20250514T155531Z
UID:326414-1747123200-1747152000@www.ccbq.org
SUMMARY:Sheepshead-Nostrand Walking Club! 5/13
DESCRIPTION:Join us at Sheepshead-Nostrand NORC on Tuesday\, May 13th for Walking Club and a Blood Pressure Screening at The Bay Older Adult Center! \nSee the Calendar below for more information.
URL:https://www.ccbq.org/event/sheepshead-nostrand-walking-club-5-13/
LOCATION:Sheepshead-Nostrand NORC Senior Center
ATTACH;FMTTYPE=image/jpeg:https://www.ccbq.org/wp-content/uploads/2021/08/NORC-2-rotated.jpg
END:VEVENT
BEGIN:VEVENT
DTSTART;TZID=America/New_York:20250512T080000
DTEND;TZID=America/New_York:20250512T160000
DTSTAMP:20260420T143821
CREATED:20250514T155300Z
LAST-MODIFIED:20250514T155301Z
UID:326412-1747036800-1747065600@www.ccbq.org
SUMMARY:Sheepshead-Nostrand Crocheting Therapy! 5/12
DESCRIPTION:Join us at Sheepshead-Nostrand NORC on Monday\, May 12th for Crocheting Therapy! \nSee the Calendar below for more information.
URL:https://www.ccbq.org/event/sheepshead-nostrand-crocheting-therapy-5-12/
LOCATION:Sheepshead-Nostrand NORC Senior Center
ATTACH;FMTTYPE=image/jpeg:https://www.ccbq.org/wp-content/uploads/2021/08/NORC-2-rotated.jpg
END:VEVENT
BEGIN:VEVENT
DTSTART;TZID=America/New_York:20250509T080000
DTEND;TZID=America/New_York:20250509T160000
DTSTAMP:20260420T143821
CREATED:20250514T154620Z
LAST-MODIFIED:20250514T154621Z
UID:326410-1746777600-1746806400@www.ccbq.org
SUMMARY:Sheepshead-Nostrand Blood Pressure Screening! 5/9
DESCRIPTION:Join us at Sheepshead-Nostrand NORC on Friday\, May 9th for a Blood Pressure Screening at the Kings Bay Library! \nSee the Calendar below for more information.
URL:https://www.ccbq.org/event/sheepshead-nostrand-blood-pressure-screening-5-9/
LOCATION:Sheepshead-Nostrand NORC Senior Center
ATTACH;FMTTYPE=image/jpeg:https://www.ccbq.org/wp-content/uploads/2021/08/NORC-2-rotated.jpg
END:VEVENT
BEGIN:VEVENT
DTSTART;TZID=America/New_York:20250508T103000
DTEND;TZID=America/New_York:20250508T130000
DTSTAMP:20260420T143821
CREATED:20250331T191157Z
LAST-MODIFIED:20250331T191157Z
UID:325812-1746700200-1746709200@www.ccbq.org
SUMMARY:Community Information Fair
DESCRIPTION:Join us for our Community Information Fair! \nClick here to download the Flyer.
URL:https://www.ccbq.org/event/community-information-fair/
LOCATION:Sheepshead-Nostrand NORC Senior Center
ATTACH;FMTTYPE=image/png:https://www.ccbq.org/wp-content/uploads/2025/03/Screenshot-2025-03-27-114524.png
END:VEVENT
BEGIN:VEVENT
DTSTART;TZID=America/New_York:20250507T080000
DTEND;TZID=America/New_York:20250507T160000
DTSTAMP:20260420T143821
CREATED:20250514T154126Z
LAST-MODIFIED:20250514T154127Z
UID:326408-1746604800-1746633600@www.ccbq.org
SUMMARY:Sheepshead-Nostrand Handmade Crafts Workshop! 5/7
DESCRIPTION:Join us at Sheepshead-Nostrand NORC on Wednesday\, May 7th for a Handmade Crafts Workshop! \nSee the Calendar below for more information.
URL:https://www.ccbq.org/event/sheepshead-nostrand-handmade-crafts-workshop-5-7/
LOCATION:Sheepshead-Nostrand NORC Senior Center
ATTACH;FMTTYPE=image/jpeg:https://www.ccbq.org/wp-content/uploads/2021/08/NORC-2-rotated.jpg
END:VEVENT
BEGIN:VEVENT
DTSTART;TZID=America/New_York:20250506T080000
DTEND;TZID=America/New_York:20250506T160000
DTSTAMP:20260420T143821
CREATED:20250514T151947Z
LAST-MODIFIED:20250514T151948Z
UID:326406-1746518400-1746547200@www.ccbq.org
SUMMARY:Sheepshead-Nostrand Walking Club! 5/6
DESCRIPTION:Join us at Sheepshead-Nostrand NORC on Tuesday\, May 6th for Walking Club and a Blood Pressure Screening at The Bay Older Adult Center! \nSee the Calendar below for more information.
URL:https://www.ccbq.org/event/sheepshead-nostrand-walking-club-5-6/
LOCATION:Sheepshead-Nostrand NORC Senior Center
ATTACH;FMTTYPE=image/jpeg:https://www.ccbq.org/wp-content/uploads/2021/08/NORC-2-rotated.jpg
END:VEVENT
BEGIN:VEVENT
DTSTART;TZID=America/New_York:20250501T111500
DTEND;TZID=America/New_York:20250501T120000
DTSTAMP:20260420T143821
CREATED:20250219T190323Z
LAST-MODIFIED:20250514T133908Z
UID:325066-1746098100-1746100800@www.ccbq.org
SUMMARY:Blood Pressure Screening Every Friday
DESCRIPTION:Join us every Friday for a Blood Pressure Screening. \nClick here for more information.
URL:https://www.ccbq.org/event/blood-pressure-screening-every-friday/
LOCATION:Sheepshead-Nostrand NORC Senior Center
ATTACH;FMTTYPE=image/png:https://www.ccbq.org/wp-content/uploads/2025/02/Screenshot-2025-02-19-123052.png
END:VEVENT
BEGIN:VEVENT
DTSTART;TZID=America/New_York:20250501T110000
DTEND;TZID=America/New_York:20250501T114500
DTSTAMP:20260420T143821
CREATED:20250219T184358Z
LAST-MODIFIED:20250513T203004Z
UID:325064-1746097200-1746099900@www.ccbq.org
SUMMARY:Blood Pressure Screening Every Tuesday
DESCRIPTION:Join us Every Tuesday for a Blood Pressure Screening. \nClick here for more information.
URL:https://www.ccbq.org/event/blood-pressure-screening-every-tuesday/
LOCATION:Sheepshead-Nostrand NORC Senior Center
ATTACH;FMTTYPE=image/png:https://www.ccbq.org/wp-content/uploads/2025/02/Screenshot-2025-02-19-122514.png
END:VEVENT
BEGIN:VEVENT
DTSTART;TZID=America/New_York:20250501T100000
DTEND;TZID=America/New_York:20250501T230000
DTSTAMP:20260420T143821
CREATED:20250327T195330Z
LAST-MODIFIED:20250514T141640Z
UID:325754-1746093600-1746140400@www.ccbq.org
SUMMARY:Walking Club Every Tuesday
DESCRIPTION:Join us for Walking Club every Tuesday. \nClick here for more information.
URL:https://www.ccbq.org/event/walking-club-every-tuesday/
LOCATION:Sheepshead-Nostrand NORC Senior Center
ATTACH;FMTTYPE=image/png:https://www.ccbq.org/wp-content/uploads/2025/03/Screenshot-2025-03-27-113652.png
END:VEVENT
BEGIN:VEVENT
DTSTART;TZID=America/New_York:20250501T100000
DTEND;TZID=America/New_York:20250501T100000
DTSTAMP:20260420T143821
CREATED:20250219T190917Z
LAST-MODIFIED:20250513T135546Z
UID:325068-1746093600-1746093600@www.ccbq.org
SUMMARY:Handmade Crafts Workshop Every Wednesday
DESCRIPTION:Join us for a Handmade Crafts Workshop Every Wednesday. \nClick here for more information.
URL:https://www.ccbq.org/event/handmade-crafts-workshop-every-wednesday/
LOCATION:Sheepshead-Nostrand NORC Senior Center
ATTACH;FMTTYPE=image/png:https://www.ccbq.org/wp-content/uploads/2025/02/Screenshot-2025-02-19-123150.png
END:VEVENT
END:VCALENDAR