BEGIN:VCALENDAR
VERSION:2.0
PRODID:-//Catholic Charities of Brooklyn &amp; Queens - ECPv6.15.20//NONSGML v1.0//EN
CALSCALE:GREGORIAN
METHOD:PUBLISH
X-WR-CALNAME:Catholic Charities of Brooklyn &amp; Queens
X-ORIGINAL-URL:https://www.ccbq.org
X-WR-CALDESC:Events for Catholic Charities of Brooklyn &amp; Queens
REFRESH-INTERVAL;VALUE=DURATION:PT1H
X-Robots-Tag:noindex
X-PUBLISHED-TTL:PT1H
BEGIN:VTIMEZONE
TZID:America/New_York
BEGIN:DAYLIGHT
TZOFFSETFROM:-0500
TZOFFSETTO:-0400
TZNAME:EDT
DTSTART:20220313T070000
END:DAYLIGHT
BEGIN:STANDARD
TZOFFSETFROM:-0400
TZOFFSETTO:-0500
TZNAME:EST
DTSTART:20221106T060000
END:STANDARD
BEGIN:DAYLIGHT
TZOFFSETFROM:-0500
TZOFFSETTO:-0400
TZNAME:EDT
DTSTART:20230312T070000
END:DAYLIGHT
BEGIN:STANDARD
TZOFFSETFROM:-0400
TZOFFSETTO:-0500
TZNAME:EST
DTSTART:20231105T060000
END:STANDARD
BEGIN:DAYLIGHT
TZOFFSETFROM:-0500
TZOFFSETTO:-0400
TZNAME:EDT
DTSTART:20240310T070000
END:DAYLIGHT
BEGIN:STANDARD
TZOFFSETFROM:-0400
TZOFFSETTO:-0500
TZNAME:EST
DTSTART:20241103T060000
END:STANDARD
BEGIN:DAYLIGHT
TZOFFSETFROM:-0500
TZOFFSETTO:-0400
TZNAME:EDT
DTSTART:20250309T070000
END:DAYLIGHT
BEGIN:STANDARD
TZOFFSETFROM:-0400
TZOFFSETTO:-0500
TZNAME:EST
DTSTART:20251102T060000
END:STANDARD
END:VTIMEZONE
BEGIN:VEVENT
DTSTART;TZID=America/New_York:20240520T103000
DTEND;TZID=America/New_York:20240520T133000
DTSTAMP:20260422T064839
CREATED:20240403T161109Z
LAST-MODIFIED:20240403T161110Z
UID:321752-1716201000-1716211800@www.ccbq.org
SUMMARY:Live It Up: Sacred Heart Church Parking Lot
DESCRIPTION:WHAT: Catholic Charities Brooklyn and Queens Community Health and Wellness Services will host a Live it up! Community Wellness event in Queens featuring interactive health and wellness stations.\n\n\n\n\n\n\nWHEN: Monday\, May 20th\, 2024 10:30 am – 1:30 pm \nWHERE: Sacred Heart Church Parking Lot 115-20 221st Street Cambria Heights\, NY 11411 \nDETAILS: \n\nProduce box (while supplies last)\nACS Safe Sleep\nCatholic Charities Geriatric Mental Health Initiative Program\nCatholic Charities Mobile Outreach\nAetna Medicare Solutions\nDJ Music and Fun (sponsored by Aetna Medicare Solutions)\nFree giveaways and more!\n\n* Rain or shine. Outdoor event. Space is limited\, so arrive on time. Hosted by Catholic Charities Brooklyn and Queens Community Health & Wellness Services. \nDownload the May 20th  Live It Up! Community Wellness Events Flyer as a PDF in English \, Creole and in Spanish.
URL:https://www.ccbq.org/event/live-it-up-sacred-heart-church-parking-lot/
LOCATION:Sacred Heart Church\, 115-20 221st Street\, Queens\, 11411\, United States
ATTACH;FMTTYPE=image/jpeg:https://www.ccbq.org/wp-content/uploads/2024/04/5.20.English-1.jpg
END:VEVENT
BEGIN:VEVENT
DTSTART;TZID=America/New_York:20230615T130000
DTEND;TZID=America/New_York:20230615T153000
DTSTAMP:20260422T064839
CREATED:20230502T185831Z
LAST-MODIFIED:20230502T190004Z
UID:317212-1686834000-1686843000@www.ccbq.org
SUMMARY:LIVE IT UP! Community Wellness Event
DESCRIPTION:WHAT:  Catholic Charities Brooklyn and Queens Community Health and Wellness Services will host a Live it up! Community Wellness event in Queens featuring interactive health and wellness stations.\n\n\n\n\n\n\nWHEN: Thursday\, June 15th\, 2023 from 1:00 a.m. to 3:30 p.m. \nWHERE: Sacred Heart of Jesus Church located at 115-20 221st Street Queens\, NY 11411 \nDETAILS: \n\nDairy box (while supplies last)\nBlood pressure screenings (Catholic Charities\nCommunity Outreach Services)\nLive music with a fun DJ (sponsored by Empire BC/BS)\nCOVID boosters\, testing and flu shots (Trinity Pharmacy)\n Aromatherapy (sponsored by Village CareMax)\n Free giveaways and more!\n\n* Rain or shine. Outdoor event. Space is limited\, so arrive on time. Hosted by Catholic Charities Brooklyn and Queens Community Health & Wellness Services. \nDownload the June 15th  Live It Up! Community Wellness Events Flyer as a PDF in English.
URL:https://www.ccbq.org/event/live-it-up-community-wellness-event-3/
LOCATION:Sacred Heart Church\, 115-20 221st Street\, Queens\, 11411\, United States
ATTACH;FMTTYPE=image/jpeg:https://www.ccbq.org/wp-content/uploads/2023/05/nEWsACREDhEARTOFjESUScHURCH.jpg
END:VEVENT
BEGIN:VEVENT
DTSTART;TZID=America/New_York:20230615T123000
DTEND;TZID=America/New_York:20230615T153000
DTSTAMP:20260422T064839
CREATED:20230510T145706Z
LAST-MODIFIED:20241002T090616Z
UID:317589-1686832200-1686843000@www.ccbq.org
SUMMARY:LIVE IT UP! Community Wellness Event 06/15
DESCRIPTION:WHAT: Catholic Charities Brooklyn and Queens Community Health and Wellness Services will host a Live it up! Community Wellness event in Queens featuring interactive health and wellness stations.\n\n\n\n\n\n\nWHEN: Thursday\, June 15\, 2023 from 10:30 a.m. to 1:30 p.m. \nWHERE: Sacred Heart Of Jesus Church located at 115-20 221st Street Queens\, NY 11411 \nDETAILS: \n\nProduce box (while supplies last)\nAetna Medicare Solutions\nDJ Music (sponsored by Aetna)\nCatholic Charities Rethink Your Drink and infused\nwater samplings\nACS NYC Safe Sleep \nFree giveaways and more!\n\n* Rain or shine. Outdoor event. Space is limited\, so arrive on time. Hosted by Catholic Charities Brooklyn and Queens Community Health & Wellness Services. \nDownload the June 15  Live It Up! Community Wellness Events Flyer as a PDF in English\, Español or Creole.
URL:https://www.ccbq.org/event/live-it-up-community-wellness-event-4/
LOCATION:Sacred Heart Church\, 115-20 221st Street\, Queens\, 11411\, United States
ATTACH;FMTTYPE=image/jpeg:https://www.ccbq.org/wp-content/uploads/2023/05/SacredHeartofJesusChurchEnglish.jpg
END:VEVENT
END:VCALENDAR