BEGIN:VCALENDAR
VERSION:2.0
PRODID:-//Catholic Charities of Brooklyn &amp; Queens - ECPv6.15.20//NONSGML v1.0//EN
CALSCALE:GREGORIAN
METHOD:PUBLISH
X-WR-CALNAME:Catholic Charities of Brooklyn &amp; Queens
X-ORIGINAL-URL:https://www.ccbq.org
X-WR-CALDESC:Events for Catholic Charities of Brooklyn &amp; Queens
REFRESH-INTERVAL;VALUE=DURATION:PT1H
X-Robots-Tag:noindex
X-PUBLISHED-TTL:PT1H
BEGIN:VTIMEZONE
TZID:America/New_York
BEGIN:DAYLIGHT
TZOFFSETFROM:-0500
TZOFFSETTO:-0400
TZNAME:EDT
DTSTART:20220313T070000
END:DAYLIGHT
BEGIN:STANDARD
TZOFFSETFROM:-0400
TZOFFSETTO:-0500
TZNAME:EST
DTSTART:20221106T060000
END:STANDARD
BEGIN:DAYLIGHT
TZOFFSETFROM:-0500
TZOFFSETTO:-0400
TZNAME:EDT
DTSTART:20230312T070000
END:DAYLIGHT
BEGIN:STANDARD
TZOFFSETFROM:-0400
TZOFFSETTO:-0500
TZNAME:EST
DTSTART:20231105T060000
END:STANDARD
BEGIN:DAYLIGHT
TZOFFSETFROM:-0500
TZOFFSETTO:-0400
TZNAME:EDT
DTSTART:20240310T070000
END:DAYLIGHT
BEGIN:STANDARD
TZOFFSETFROM:-0400
TZOFFSETTO:-0500
TZNAME:EST
DTSTART:20241103T060000
END:STANDARD
BEGIN:DAYLIGHT
TZOFFSETFROM:-0500
TZOFFSETTO:-0400
TZNAME:EDT
DTSTART:20250309T070000
END:DAYLIGHT
BEGIN:STANDARD
TZOFFSETFROM:-0400
TZOFFSETTO:-0500
TZNAME:EST
DTSTART:20251102T060000
END:STANDARD
BEGIN:DAYLIGHT
TZOFFSETFROM:-0500
TZOFFSETTO:-0400
TZNAME:EDT
DTSTART:20260308T070000
END:DAYLIGHT
BEGIN:STANDARD
TZOFFSETFROM:-0400
TZOFFSETTO:-0500
TZNAME:EST
DTSTART:20261101T060000
END:STANDARD
END:VTIMEZONE
BEGIN:VEVENT
DTSTART;TZID=America/New_York:20250930T143000
DTEND;TZID=America/New_York:20250930T170000
DTSTAMP:20260420T173415
CREATED:20250815T201737Z
LAST-MODIFIED:20250815T201738Z
UID:328639-1759242600-1759251600@www.ccbq.org
SUMMARY:Family Back-To-School Night
DESCRIPTION:WHAT: Catholic Charities Brooklyn and Queens Community Outreach Services will host a Family Back-To-School-Night and Resource Fair event in Queens\, offering fun and engaging activities for families.\n\n\n\n\n\n\nWHEN: Tuesday\, September  30th\, 2025 2:30 AM – 5:00 PM \nWHERE: PS/MS 105 The Bay School\n420 Beach 51st Street\, Far Rockaway\, New York 11691 \nDETAILS: \n\nSponsored by Catholic Charities Brooklyn and Queens Community Outreach Services\nFresh Produce (While Supplies Last)\nCCBQ Mobile Outreach – SNAP\nCatholic Charities Health and Wellness\nSpecial Appearance by St. Johns University Mascot Johnny Thunderbird\nFree clothing\, books and more!\n\nRain or shine outdoor event. Space is limited\, so arrive on time. \nDownload the Live it Up Health Fair Event as a PDF in English.
URL:https://www.ccbq.org/event/family-back-to-school-night/
LOCATION:PS/MS 105 The Bay School\, 420 Beach 51st Street\, Far Rockaway\, NY\, 11691\, United States
ATTACH;FMTTYPE=image/png:https://www.ccbq.org/wp-content/uploads/2025/08/Screenshot-2025-08-15-154007.png
END:VEVENT
BEGIN:VEVENT
DTSTART;TZID=America/New_York:20240924T143000
DTEND;TZID=America/New_York:20240924T170000
DTSTAMP:20260420T173415
CREATED:20240809T191856Z
LAST-MODIFIED:20241219T111837Z
UID:322903-1727188200-1727197200@www.ccbq.org
SUMMARY:Family Back-to-School Night BBQ and Resource Fair! 9/24
DESCRIPTION:WHAT: Catholic Charities Brooklyn and Queens Community Health and Wellness Services will host a Family Back-to-School Night BBQ and Resource Fair!\n\n\n\n\n\n\nWHEN: Tuesday\, September 24\, 2024 2:30 PM — 5:00 PM \nWHERE: PS/MS 105 The Bay School (Basketball court behind the school) 420 Beach 51st Street Far Rockaway\, NY 11691 \n\nHSM + La’dorch Home Care\nCatholic Charities Mobile Outreach- SNAP\nCatholic Charities Care Coordination\nFresh Produce  (while supplies last)\nCatholic Charities Moving Forward Program\nK-Four Construction Corp. – Lego building activity table\n\n* Rain or shine. Outdoor event. Space is limited\, so arrive on time. Hosted by Catholic Charities Brooklyn and Queens Community Health & Wellness Services. \nDownload the September 24th Family Back-to-School Night event as a PDF in English and Spanish.
URL:https://www.ccbq.org/event/family-back-to-school-night-bbq-and-resource-fair-2/
LOCATION:PS/MS 105 The Bay School\, 420 Beach 51st Street\, Far Rockaway\, NY\, 11691\, United States
ATTACH;FMTTYPE=image/jpeg:https://www.ccbq.org/wp-content/uploads/2024/08/ResourceFair.jpg
END:VEVENT
BEGIN:VEVENT
DTSTART;TZID=America/New_York:20230921T143000
DTEND;TZID=America/New_York:20230921T170000
DTSTAMP:20260420T173415
CREATED:20230830T162321Z
LAST-MODIFIED:20241219T111905Z
UID:319394-1695306600-1695315600@www.ccbq.org
SUMMARY:Family Back-to-School Night BBQ and Resource Fair! 9/21
DESCRIPTION:WHAT: Catholic Charities Brooklyn and Queens Community Health and Wellness Services will host a Family Back-to-School Night BBQ and Resource Fair event in Queens featuring interactive health and wellness stations.\n\n\n\n\n\n\nWHEN: Thursday\, September 21st\, 2023 2:30 PM- 5:00 PM \nWHERE: PS/MS 105 The Bay School 420 Beach 51st Street Far Rockaway\, NY 11691 \nDETAILS: \n\nDJ Music (sponsored by Aetna Medicare Solutions)\nLiberty Dental – dental screenings\nTrinity Pharmacy — Flu Shots\nCatholic Charities Mobile Outreach Services — SNAP\n\n* Rain or shine. Outdoor event. Space is limited\, so arrive on time. Hosted by Catholic Charities Brooklyn and Queens Community Health & Wellness Services. \nDownload the September 21st Family Back-to-School Night BBQ and Resource Fair event Event Flyer as a PDF in English and Spanish.
URL:https://www.ccbq.org/event/family-back-to-school-night-bbq-and-resource-fair/
LOCATION:PS/MS 105 The Bay School\, 420 Beach 51st Street\, Far Rockaway\, NY\, 11691\, United States
ATTACH;FMTTYPE=image/jpeg:https://www.ccbq.org/wp-content/uploads/2023/08/Screenshot-2023-08-30-121950.jpg
END:VEVENT
END:VCALENDAR