BEGIN:VCALENDAR
VERSION:2.0
PRODID:-//Catholic Charities of Brooklyn &amp; Queens - ECPv6.15.20//NONSGML v1.0//EN
CALSCALE:GREGORIAN
METHOD:PUBLISH
X-WR-CALNAME:Catholic Charities of Brooklyn &amp; Queens
X-ORIGINAL-URL:https://www.ccbq.org
X-WR-CALDESC:Events for Catholic Charities of Brooklyn &amp; Queens
REFRESH-INTERVAL;VALUE=DURATION:PT1H
X-Robots-Tag:noindex
X-PUBLISHED-TTL:PT1H
BEGIN:VTIMEZONE
TZID:America/New_York
BEGIN:DAYLIGHT
TZOFFSETFROM:-0500
TZOFFSETTO:-0400
TZNAME:EDT
DTSTART:20200308T070000
END:DAYLIGHT
BEGIN:STANDARD
TZOFFSETFROM:-0400
TZOFFSETTO:-0500
TZNAME:EST
DTSTART:20201101T060000
END:STANDARD
BEGIN:DAYLIGHT
TZOFFSETFROM:-0500
TZOFFSETTO:-0400
TZNAME:EDT
DTSTART:20210314T070000
END:DAYLIGHT
BEGIN:STANDARD
TZOFFSETFROM:-0400
TZOFFSETTO:-0500
TZNAME:EST
DTSTART:20211107T060000
END:STANDARD
BEGIN:DAYLIGHT
TZOFFSETFROM:-0500
TZOFFSETTO:-0400
TZNAME:EDT
DTSTART:20220313T070000
END:DAYLIGHT
BEGIN:STANDARD
TZOFFSETFROM:-0400
TZOFFSETTO:-0500
TZNAME:EST
DTSTART:20221106T060000
END:STANDARD
END:VTIMEZONE
BEGIN:VEVENT
DTSTART;TZID=America/New_York:20210805T051500
DTEND;TZID=America/New_York:20210805T051500
DTSTAMP:20260424T101957
CREATED:20210519T211402Z
LAST-MODIFIED:20250214T213120Z
UID:7585-1628140500-1628140500@www.ccbq.org
SUMMARY:Pop-Up Food Pantry for families dealing with effects of COVID-19
DESCRIPTION:WHAT:  Catholic Charities Brooklyn and Queens will host a Pop-up Food Pantry for families still dealing with the effects of COVID-19. Recipients will receive pre-packed bags of food\, are required to wear a mask\, be prepared to social distance\, and bring a shopping cart for the food distribution.\nTickets for participation will be distributed on a first come\, first served basis\, beginning at 8:00 a.m. on the day of the event. You must be present to receive a ticket.\nWHEN: Thursday\, August 5\, 2021\, distribution beginning at 9:15 a.m. until supplies last\nWHERE: Our Lady of Victory located at 163 MacDonough Street\, Brooklyn\, NY 11216\nOn Thursday\, August 5 Catholic Charities Brooklyn and Queens will: \n\nOperate a pop-up food pantry;\nDistribute bags filled with fresh produce\, dairy\, meat\, and non-perishable food items;\nProvide information and resource tables on SNAP screening\, Project Hope; and\nDistribute lots of FREE giveaways!\n\nDownload the August 5 Pop-Up Food Pantry Flyer in English and Español as a PDF.
URL:https://www.ccbq.org/event/pop-up-food-pantry-for-families-dealing-with-effects-of-covid-19-3-2/
LOCATION:Our Lady of Victory\, 163 MacDonough Street\, Brooklyn\, NY\, 11216\, United States
ATTACH;FMTTYPE=:
END:VEVENT
END:VCALENDAR