BEGIN:VCALENDAR
VERSION:2.0
PRODID:-//Catholic Charities of Brooklyn &amp; Queens - ECPv6.15.20//NONSGML v1.0//EN
CALSCALE:GREGORIAN
METHOD:PUBLISH
X-ORIGINAL-URL:https://www.ccbq.org
X-WR-CALDESC:Events for Catholic Charities of Brooklyn &amp; Queens
REFRESH-INTERVAL;VALUE=DURATION:PT1H
X-Robots-Tag:noindex
X-PUBLISHED-TTL:PT1H
BEGIN:VTIMEZONE
TZID:America/New_York
BEGIN:DAYLIGHT
TZOFFSETFROM:-0500
TZOFFSETTO:-0400
TZNAME:EDT
DTSTART:20240310T070000
END:DAYLIGHT
BEGIN:STANDARD
TZOFFSETFROM:-0400
TZOFFSETTO:-0500
TZNAME:EST
DTSTART:20241103T060000
END:STANDARD
BEGIN:DAYLIGHT
TZOFFSETFROM:-0500
TZOFFSETTO:-0400
TZNAME:EDT
DTSTART:20250309T070000
END:DAYLIGHT
BEGIN:STANDARD
TZOFFSETFROM:-0400
TZOFFSETTO:-0500
TZNAME:EST
DTSTART:20251102T060000
END:STANDARD
BEGIN:DAYLIGHT
TZOFFSETFROM:-0500
TZOFFSETTO:-0400
TZNAME:EDT
DTSTART:20260308T070000
END:DAYLIGHT
BEGIN:STANDARD
TZOFFSETFROM:-0400
TZOFFSETTO:-0500
TZNAME:EST
DTSTART:20261101T060000
END:STANDARD
END:VTIMEZONE
BEGIN:VEVENT
DTSTART;TZID=America/New_York:20250530T080000
DTEND;TZID=America/New_York:20250530T170000
DTSTAMP:20260420T143822
CREATED:20250527T160525Z
LAST-MODIFIED:20250527T160526Z
UID:326586-1748592000-1748624400@www.ccbq.org
SUMMARY:Northside Aerobics and Painting Class 5/30
DESCRIPTION:Join us at Northside Older Adult Center on Friday\, May 30th for Aerobics\, Painting Class and more! \nSee the Calendar below for more information.
URL:https://www.ccbq.org/event/northside-aerobics-and-painting-class-5-30/
LOCATION:Northside Senior Center
ATTACH;FMTTYPE=image/png:https://www.ccbq.org/wp-content/uploads/2024/06/NorthsideFeaturedImage.png
END:VEVENT
BEGIN:VEVENT
DTSTART;TZID=America/New_York:20250529T080000
DTEND;TZID=America/New_York:20250529T170000
DTSTAMP:20260420T143822
CREATED:20250527T154505Z
LAST-MODIFIED:20250527T154506Z
UID:326584-1748505600-1748538000@www.ccbq.org
SUMMARY:Northside Yoga and Birthday Party 5/29
DESCRIPTION:Join us at Northside Older Adult Center on Thursday\, May 29th for Yoga\, a Birthday Party and more! \nSee the Calendar below for more information.
URL:https://www.ccbq.org/event/northside-yoga-and-birthday-party-5-29/
LOCATION:Northside Senior Center
ATTACH;FMTTYPE=image/png:https://www.ccbq.org/wp-content/uploads/2024/06/NorthsideFeaturedImage.png
END:VEVENT
BEGIN:VEVENT
DTSTART;TZID=America/New_York:20250528T080000
DTEND;TZID=America/New_York:20250528T170000
DTSTAMP:20260420T143822
CREATED:20250527T152404Z
LAST-MODIFIED:20250527T152405Z
UID:326582-1748419200-1748451600@www.ccbq.org
SUMMARY:Northside Computer Lab and Crochet Class 5/28
DESCRIPTION:Join us at Northside Older Adult Center on Wednesday\, May 28th for Computer Lab\, Crochet Class and more! \nSee the Calendar below for more information.
URL:https://www.ccbq.org/event/northside-computer-lab-and-crochet-class-5-28/
LOCATION:Northside Senior Center
ATTACH;FMTTYPE=image/png:https://www.ccbq.org/wp-content/uploads/2024/06/NorthsideFeaturedImage.png
END:VEVENT
BEGIN:VEVENT
DTSTART;TZID=America/New_York:20250527T080000
DTEND;TZID=America/New_York:20250527T170000
DTSTAMP:20260420T143822
CREATED:20250527T143553Z
LAST-MODIFIED:20250527T143554Z
UID:326580-1748332800-1748365200@www.ccbq.org
SUMMARY:Northside Bingo and Tuesday Movie 5/27
DESCRIPTION:Join us at Northside Older Adult Center on Tuesday\, May 27th for Bingo\, a Tuesday Movie and more! \nSee the Calendar below for more information.
URL:https://www.ccbq.org/event/northside-bingo-and-tuesday-movie-5-27/
LOCATION:Northside Senior Center
ATTACH;FMTTYPE=image/png:https://www.ccbq.org/wp-content/uploads/2024/06/NorthsideFeaturedImage.png
END:VEVENT
BEGIN:VEVENT
DTSTART;TZID=America/New_York:20250523T080000
DTEND;TZID=America/New_York:20250523T170000
DTSTAMP:20260420T143822
CREATED:20250516T202300Z
LAST-MODIFIED:20250516T202301Z
UID:326497-1747987200-1748019600@www.ccbq.org
SUMMARY:Northside Aerobics and Painting Class 5/23
DESCRIPTION:Join us at Northside Older Adult Center on Friday\, May 23rd for Aerobics\, Painting Class and more! \nSee the Calendar below for more information.
URL:https://www.ccbq.org/event/northside-aerobics-and-painting-class-5-23/
LOCATION:Northside Senior Center
ATTACH;FMTTYPE=image/png:https://www.ccbq.org/wp-content/uploads/2024/06/NorthsideFeaturedImage.png
END:VEVENT
BEGIN:VEVENT
DTSTART;TZID=America/New_York:20250522T080000
DTEND;TZID=America/New_York:20250522T170000
DTSTAMP:20260420T143822
CREATED:20250516T195100Z
LAST-MODIFIED:20250516T195100Z
UID:326493-1747900800-1747933200@www.ccbq.org
SUMMARY:Northside Yoga and Computer Lab 5/22
DESCRIPTION:Join us at Northside Older Adult Center on Thursday\, May 22nd for Yoga\, Computer Lab and more! \nSee the Calendar below for more information.
URL:https://www.ccbq.org/event/northside-yoga-and-computer-lab-5-22/
LOCATION:Northside Senior Center
ATTACH;FMTTYPE=image/png:https://www.ccbq.org/wp-content/uploads/2024/06/NorthsideFeaturedImage.png
END:VEVENT
BEGIN:VEVENT
DTSTART;TZID=America/New_York:20250521T080000
DTEND;TZID=America/New_York:20250521T170000
DTSTAMP:20260420T143822
CREATED:20250516T192816Z
LAST-MODIFIED:20250516T192816Z
UID:326489-1747814400-1747846800@www.ccbq.org
SUMMARY:Northside Computer Lab and Crochet Class 5/21
DESCRIPTION:Join us at Northside Older Adult Center on Wednesday\, May 21st for Computer Lab\, Crochet Class and more! \nSee the Calendar below for more information.
URL:https://www.ccbq.org/event/northside-computer-lab-and-crochet-class-5-21/
LOCATION:Northside Senior Center
ATTACH;FMTTYPE=image/png:https://www.ccbq.org/wp-content/uploads/2024/06/NorthsideFeaturedImage.png
END:VEVENT
BEGIN:VEVENT
DTSTART;TZID=America/New_York:20250520T080000
DTEND;TZID=America/New_York:20250520T170000
DTSTAMP:20260420T143822
CREATED:20250516T192231Z
LAST-MODIFIED:20250516T192232Z
UID:326485-1747728000-1747760400@www.ccbq.org
SUMMARY:Northside Bingo and Tuesday Movie 5/20
DESCRIPTION:Join us at Northside Older Adult Center on Tuesday\, May 20th for Bingo\, a Tuesday Movie and more! \nSee the Calendar below for more information.
URL:https://www.ccbq.org/event/northside-bingo-and-tuesday-movie-5-20/
LOCATION:Northside Senior Center
ATTACH;FMTTYPE=image/png:https://www.ccbq.org/wp-content/uploads/2024/06/NorthsideFeaturedImage.png
END:VEVENT
BEGIN:VEVENT
DTSTART;TZID=America/New_York:20250519T080000
DTEND;TZID=America/New_York:20250519T170000
DTSTAMP:20260420T143822
CREATED:20250516T191626Z
LAST-MODIFIED:20250516T191627Z
UID:326481-1747641600-1747674000@www.ccbq.org
SUMMARY:Northside Dancing and Gardening 5/19
DESCRIPTION:Join us at Northside Older Adult Center on Monday\, May 19th for Dancing\, Gardening and more! \nSee the Calendar below for more information.
URL:https://www.ccbq.org/event/northside-dancing-and-gardening-5-19/
LOCATION:Northside Senior Center
ATTACH;FMTTYPE=image/png:https://www.ccbq.org/wp-content/uploads/2024/06/NorthsideFeaturedImage.png
END:VEVENT
BEGIN:VEVENT
DTSTART;TZID=America/New_York:20250516T080000
DTEND;TZID=America/New_York:20250516T170000
DTSTAMP:20260420T143822
CREATED:20250516T195950Z
LAST-MODIFIED:20250516T195950Z
UID:326495-1747382400-1747414800@www.ccbq.org
SUMMARY:Northside Aerobics and Painting Class 5/16
DESCRIPTION:Join us at Northside Older Adult Center on Friday\, May 16th for Aerobics\, Painting Class and more! \nSee the Calendar below for more information.
URL:https://www.ccbq.org/event/northside-aerobics-and-painting-class-5-16/
LOCATION:Northside Senior Center
ATTACH;FMTTYPE=image/png:https://www.ccbq.org/wp-content/uploads/2024/06/NorthsideFeaturedImage.png
END:VEVENT
BEGIN:VEVENT
DTSTART;TZID=America/New_York:20250515T080000
DTEND;TZID=America/New_York:20250515T170000
DTSTAMP:20260420T143822
CREATED:20250516T194903Z
LAST-MODIFIED:20250516T194904Z
UID:326491-1747296000-1747328400@www.ccbq.org
SUMMARY:Northside Yoga and Computer Lab 5/15
DESCRIPTION:Join us at Northside Older Adult Center on Thursday\, May 15th for Yoga\, Computer Lab and more! \nSee the Calendar below for more information.
URL:https://www.ccbq.org/event/northside-yoga-and-computer-lab-5-15/
LOCATION:Northside Senior Center
ATTACH;FMTTYPE=image/png:https://www.ccbq.org/wp-content/uploads/2024/06/NorthsideFeaturedImage.png
END:VEVENT
BEGIN:VEVENT
DTSTART;TZID=America/New_York:20250514T080000
DTEND;TZID=America/New_York:20250514T170000
DTSTAMP:20260420T143822
CREATED:20250516T192501Z
LAST-MODIFIED:20250516T192502Z
UID:326487-1747209600-1747242000@www.ccbq.org
SUMMARY:Northside Computer Lab and Nutrition Class 5/14
DESCRIPTION:Join us at Northside Older Adult Center on Wednesday\, May 14th for Computer Lab\, Nutrition Class and more! \nSee the Calendar below for more information.
URL:https://www.ccbq.org/event/northside-computer-lab-and-nutrition-class-5-14/
LOCATION:Northside Senior Center
ATTACH;FMTTYPE=image/png:https://www.ccbq.org/wp-content/uploads/2024/06/NorthsideFeaturedImage.png
END:VEVENT
BEGIN:VEVENT
DTSTART;TZID=America/New_York:20250513T080000
DTEND;TZID=America/New_York:20250513T170000
DTSTAMP:20260420T143822
CREATED:20250516T192007Z
LAST-MODIFIED:20250516T192009Z
UID:326483-1747123200-1747155600@www.ccbq.org
SUMMARY:Northside Bingo and Tuesday Movie 5/13
DESCRIPTION:Join us at Northside Older Adult Center on Tuesday\, May 13th for Bingo\, a Tuesday Movie and more! \nSee the Calendar below for more information.
URL:https://www.ccbq.org/event/northside-bingo-and-tuesday-movie-5-13/
LOCATION:Northside Senior Center
ATTACH;FMTTYPE=image/png:https://www.ccbq.org/wp-content/uploads/2024/06/NorthsideFeaturedImage.png
END:VEVENT
BEGIN:VEVENT
DTSTART;TZID=America/New_York:20250512T080000
DTEND;TZID=America/New_York:20250512T170000
DTSTAMP:20260420T143822
CREATED:20250516T185916Z
LAST-MODIFIED:20250516T185918Z
UID:326479-1747036800-1747069200@www.ccbq.org
SUMMARY:Northside Dancing and Gardening 5/12
DESCRIPTION:Join us at Northside Older Adult Center on Monday\, May 12th for Dancing\, Gardening and more! \nSee the Calendar below for more information.
URL:https://www.ccbq.org/event/northside-dancing-and-gardening-5-12/
LOCATION:Northside Senior Center
ATTACH;FMTTYPE=image/png:https://www.ccbq.org/wp-content/uploads/2024/06/NorthsideFeaturedImage.png
END:VEVENT
BEGIN:VEVENT
DTSTART;TZID=America/New_York:20250509T080000
DTEND;TZID=America/New_York:20250509T170000
DTSTAMP:20260420T143822
CREATED:20250502T202238Z
LAST-MODIFIED:20250502T202417Z
UID:326327-1746777600-1746810000@www.ccbq.org
SUMMARY:Northside Aerobics and Painting Class 5/9
DESCRIPTION:Join us at Northside Older Adult Center on Friday\, May 9th for Aerobics\, Painting Class and more! \nSee the Calendar below for more information.
URL:https://www.ccbq.org/event/northside-aerobics-and-painting-class-5-9/
LOCATION:Northside Senior Center
ATTACH;FMTTYPE=image/png:https://www.ccbq.org/wp-content/uploads/2024/06/NorthsideFeaturedImage.png
END:VEVENT
BEGIN:VEVENT
DTSTART;TZID=America/New_York:20250508T080000
DTEND;TZID=America/New_York:20250508T170000
DTSTAMP:20260420T143822
CREATED:20250502T185049Z
LAST-MODIFIED:20250502T185049Z
UID:326323-1746691200-1746723600@www.ccbq.org
SUMMARY:Northside Yoga and Computer Lab 5/8
DESCRIPTION:Join us at Northside Older Adult Center on Thursday\, May 8th for Yoga\, Computer Lab and more! \nSee the Calendar below for more information.
URL:https://www.ccbq.org/event/northside-yoga-and-computer-lab-5-8/
LOCATION:Northside Senior Center
ATTACH;FMTTYPE=image/png:https://www.ccbq.org/wp-content/uploads/2024/06/NorthsideFeaturedImage.png
END:VEVENT
BEGIN:VEVENT
DTSTART;TZID=America/New_York:20250507T080000
DTEND;TZID=America/New_York:20250507T170000
DTSTAMP:20260420T143822
CREATED:20250507T203308Z
LAST-MODIFIED:20250507T203309Z
UID:326362-1746604800-1746637200@www.ccbq.org
SUMMARY:Northside Computer Lab and Crochet Class 5/7
DESCRIPTION:Join us at Northside Older Adult Center on Wednesday\, May 7th for Computer Lab\, Crochet Class and more! \nSee the Calendar below for more information.
URL:https://www.ccbq.org/event/northside-computer-lab-and-crochet-class-5-7/
LOCATION:Northside Senior Center
ATTACH;FMTTYPE=image/png:https://www.ccbq.org/wp-content/uploads/2024/06/NorthsideFeaturedImage.png
END:VEVENT
BEGIN:VEVENT
DTSTART;TZID=America/New_York:20250506T080000
DTEND;TZID=America/New_York:20250506T170000
DTSTAMP:20260420T143822
CREATED:20250507T203039Z
LAST-MODIFIED:20250507T203040Z
UID:326360-1746518400-1746550800@www.ccbq.org
SUMMARY:Northside Bingo and Tuesday Movie 5/6
DESCRIPTION:Join us at Northside Older Adult Center on Tuesday\, May 6th for Bingo\, a Tuesday Movie and more! \nSee the Calendar below for more information.
URL:https://www.ccbq.org/event/northside-bingo-and-tuesday-movie-5-6/
LOCATION:Northside Senior Center
ATTACH;FMTTYPE=image/png:https://www.ccbq.org/wp-content/uploads/2024/06/NorthsideFeaturedImage.png
END:VEVENT
BEGIN:VEVENT
DTSTART;TZID=America/New_York:20250505T080000
DTEND;TZID=America/New_York:20250505T170000
DTSTAMP:20260420T143822
CREATED:20250507T201409Z
LAST-MODIFIED:20250507T201410Z
UID:326358-1746432000-1746464400@www.ccbq.org
SUMMARY:Northside Dancing and Gardening 5/5
DESCRIPTION:Join us at Northside Older Adult Center on Monday\, May 5th for Dancing\, Gardening and more! \nSee the Calendar below for more information.
URL:https://www.ccbq.org/event/northside-dancing-and-gardening-5-5/
LOCATION:Northside Senior Center
ATTACH;FMTTYPE=image/png:https://www.ccbq.org/wp-content/uploads/2024/06/NorthsideFeaturedImage.png
END:VEVENT
BEGIN:VEVENT
DTSTART;TZID=America/New_York:20250502T080000
DTEND;TZID=America/New_York:20250502T170000
DTSTAMP:20260420T143822
CREATED:20250502T185508Z
LAST-MODIFIED:20250502T185509Z
UID:326325-1746172800-1746205200@www.ccbq.org
SUMMARY:Northside Aerobics and Painting Class 5/2
DESCRIPTION:Join us at Northside Older Adult Center on Friday\, May 2nd for Aerobics\, Painting Class and more! \nSee the Calendar below for more information.
URL:https://www.ccbq.org/event/northside-aerobics-and-painting-class-5-2/
LOCATION:Northside Senior Center
ATTACH;FMTTYPE=image/png:https://www.ccbq.org/wp-content/uploads/2024/06/NorthsideFeaturedImage.png
END:VEVENT
BEGIN:VEVENT
DTSTART;TZID=America/New_York:20250501T080000
DTEND;TZID=America/New_York:20250501T170000
DTSTAMP:20260420T143822
CREATED:20250502T184743Z
LAST-MODIFIED:20250502T184744Z
UID:326321-1746086400-1746118800@www.ccbq.org
SUMMARY:Northside Yoga and Computer Lab 5/1
DESCRIPTION:Join us at Northside Older Adult Center on Thursday\, May 1st for Yoga\, Computer Lab and more! \nSee the Calendar below for more information.
URL:https://www.ccbq.org/event/northside-yoga-and-computer-lab-5-1/
LOCATION:Northside Senior Center
ATTACH;FMTTYPE=image/png:https://www.ccbq.org/wp-content/uploads/2024/06/NorthsideFeaturedImage.png
END:VEVENT
END:VCALENDAR