BEGIN:VCALENDAR
VERSION:2.0
PRODID:-//Catholic Charities of Brooklyn &amp; Queens - ECPv6.15.20//NONSGML v1.0//EN
CALSCALE:GREGORIAN
METHOD:PUBLISH
X-WR-CALNAME:Catholic Charities of Brooklyn &amp; Queens
X-ORIGINAL-URL:https://www.ccbq.org
X-WR-CALDESC:Events for Catholic Charities of Brooklyn &amp; Queens
REFRESH-INTERVAL;VALUE=DURATION:PT1H
X-Robots-Tag:noindex
X-PUBLISHED-TTL:PT1H
BEGIN:VTIMEZONE
TZID:America/New_York
BEGIN:DAYLIGHT
TZOFFSETFROM:-0500
TZOFFSETTO:-0400
TZNAME:EDT
DTSTART:20220313T070000
END:DAYLIGHT
BEGIN:STANDARD
TZOFFSETFROM:-0400
TZOFFSETTO:-0500
TZNAME:EST
DTSTART:20221106T060000
END:STANDARD
BEGIN:DAYLIGHT
TZOFFSETFROM:-0500
TZOFFSETTO:-0400
TZNAME:EDT
DTSTART:20230312T070000
END:DAYLIGHT
BEGIN:STANDARD
TZOFFSETFROM:-0400
TZOFFSETTO:-0500
TZNAME:EST
DTSTART:20231105T060000
END:STANDARD
BEGIN:DAYLIGHT
TZOFFSETFROM:-0500
TZOFFSETTO:-0400
TZNAME:EDT
DTSTART:20240310T070000
END:DAYLIGHT
BEGIN:STANDARD
TZOFFSETFROM:-0400
TZOFFSETTO:-0500
TZNAME:EST
DTSTART:20241103T060000
END:STANDARD
BEGIN:DAYLIGHT
TZOFFSETFROM:-0500
TZOFFSETTO:-0400
TZNAME:EDT
DTSTART:20250309T070000
END:DAYLIGHT
BEGIN:STANDARD
TZOFFSETFROM:-0400
TZOFFSETTO:-0500
TZNAME:EST
DTSTART:20251102T060000
END:STANDARD
BEGIN:DAYLIGHT
TZOFFSETFROM:-0500
TZOFFSETTO:-0400
TZNAME:EDT
DTSTART:20260308T070000
END:DAYLIGHT
BEGIN:STANDARD
TZOFFSETFROM:-0400
TZOFFSETTO:-0500
TZNAME:EST
DTSTART:20261101T060000
END:STANDARD
END:VTIMEZONE
BEGIN:VEVENT
DTSTART;TZID=America/New_York:20250429T103000
DTEND;TZID=America/New_York:20250429T133000
DTSTAMP:20260421T002420
CREATED:20250311T182234Z
LAST-MODIFIED:20250328T174037Z
UID:325349-1745922600-1745933400@www.ccbq.org
SUMMARY:Live it Up! Health Fair
DESCRIPTION:WHAT:  Catholic Charities Brooklyn and Queens Community Outreach Services will host a Live it Up event in Brooklyn\, offering fun and engaging activities for families.\n\n\n\n\n\n\nWHEN: Tuesday\, April 29th\, 2025 10:30 AM – 1:30 PM \nWHERE: Holy Innocents Church\n289 East 17th Street\, Brooklyn\, NY 11226 \nDETAILS: \n\nSponsored by Catholic Charities Brooklyn and Queens Community Outreach Services\nProduce Bags (While Supplies Last)\nCCBQ Mobile Outreach – SNAP\nCCBQ Geriatric Mental Health Initiative Program\nFree giveaways and more!\n\nRain or shine outdoor event. Space is limited\, so arrive on time. \nDownload the Live it Up Health Fair Event as a PDF in English\, Spanish or Creole
URL:https://www.ccbq.org/event/live-it-up-5/
LOCATION:Holy Innocents Church\, 279 East 17th Street\, Brooklyn\, 11226\, United States
ATTACH;FMTTYPE=image/png:https://www.ccbq.org/wp-content/uploads/2025/03/Screenshot-2025-03-28-125805.png
END:VEVENT
BEGIN:VEVENT
DTSTART;TZID=America/New_York:20240910T103000
DTEND;TZID=America/New_York:20240910T133000
DTSTAMP:20260421T002420
CREATED:20240731T191547Z
LAST-MODIFIED:20240806T164413Z
UID:322707-1725964200-1725975000@www.ccbq.org
SUMMARY:Live It Up: Holy Innocents Church
DESCRIPTION:WHAT: Catholic Charities Brooklyn and Queens Community Health and Wellness Services will host a Live it up! Community Wellness event in Brooklyn featuring interactive health and wellness stations.\n\n\n\n\n\n\nWHEN: Tuesday\, September 10th\, 2024 10:30 am – 1:30 pm \nWHERE: Holy Innocents Church 279 E 17th Street Brooklyn\, NY 11226 \n\nFidelis Care\nCatholic Charities Mobile Outreach- SNAP\nLiberty Dental – Free Dental Screenings\nProduce box (while supplies last)\nFree giveaways and more!\n\n* Rain or shine. Outdoor event. Space is limited\, so arrive on time. Hosted by Catholic Charities Brooklyn and Queens Community Health & Wellness Services. \nDownload the September 10th Live It Up! event as a PDF in English\, Spanish and Creole.
URL:https://www.ccbq.org/event/live-it-up-holy-innocents-church/
LOCATION:Holy Innocents Church\, 279 East 17th Street\, Brooklyn\, 11226\, United States
ATTACH;FMTTYPE=image/png:https://www.ccbq.org/wp-content/uploads/2024/07/HolyInnocentsLiveItUp.png
END:VEVENT
BEGIN:VEVENT
DTSTART;TZID=America/New_York:20231114T100000
DTEND;TZID=America/New_York:20231114T100000
DTSTAMP:20260421T002420
CREATED:20231107T201214Z
LAST-MODIFIED:20231107T204456Z
UID:320229-1699956000-1699956000@www.ccbq.org
SUMMARY:Live It Up Community Wellness Event: Turkey Distribution at Holy Innocents Church
DESCRIPTION:WHAT:  Catholic Charities Brooklyn and Queens Community Health and Wellness Services will host a Live it up! Community Wellness event in Brooklyn.\n\n\n\n\n\n\nWHEN: Tuesday\, November 14th\,  2023 from 10:00 a.m.  \nWHERE: Holy Innocents Church 279 East 17th Street Brooklyn\, NY 11226 \nDETAILS: \n\n1 per household — while supplies last!\nBRING PHOTO ID\nNO RSVP REQUIRED\nMust be 18 and over\nBe prepared to wait outside (Line begins at 300 East 18th Street)\n\nTickets for distribution will be given out at 8:30 AM on the day of the event. You must be present to receive a ticket. \n* Rain or shine. Outdoor event. Space is limited\, so arrive on time. Hosted by Catholic Charities Brooklyn and Queens Community Health & Wellness Services. \nDownload the November 14th Live It Up! Turkey Distribution as a PDF in English\, Español.
URL:https://www.ccbq.org/event/live-it-up-community-wellness-event-turkey-distribution/
LOCATION:Holy Innocents Church\, 279 East 17th Street\, Brooklyn\, 11226\, United States
ATTACH;FMTTYPE=image/png:https://www.ccbq.org/wp-content/uploads/2023/11/Screenshot-2023-11-07-at-3.04.35-PM.png
END:VEVENT
END:VCALENDAR