BEGIN:VCALENDAR
VERSION:2.0
PRODID:-//Catholic Charities of Brooklyn &amp; Queens - ECPv6.15.20//NONSGML v1.0//EN
CALSCALE:GREGORIAN
METHOD:PUBLISH
X-ORIGINAL-URL:https://www.ccbq.org
X-WR-CALDESC:Events for Catholic Charities of Brooklyn &amp; Queens
REFRESH-INTERVAL;VALUE=DURATION:PT1H
X-Robots-Tag:noindex
X-PUBLISHED-TTL:PT1H
BEGIN:VTIMEZONE
TZID:America/New_York
BEGIN:DAYLIGHT
TZOFFSETFROM:-0500
TZOFFSETTO:-0400
TZNAME:EDT
DTSTART:20220313T070000
END:DAYLIGHT
BEGIN:STANDARD
TZOFFSETFROM:-0400
TZOFFSETTO:-0500
TZNAME:EST
DTSTART:20221106T060000
END:STANDARD
BEGIN:DAYLIGHT
TZOFFSETFROM:-0500
TZOFFSETTO:-0400
TZNAME:EDT
DTSTART:20230312T070000
END:DAYLIGHT
BEGIN:STANDARD
TZOFFSETFROM:-0400
TZOFFSETTO:-0500
TZNAME:EST
DTSTART:20231105T060000
END:STANDARD
BEGIN:DAYLIGHT
TZOFFSETFROM:-0500
TZOFFSETTO:-0400
TZNAME:EDT
DTSTART:20240310T070000
END:DAYLIGHT
BEGIN:STANDARD
TZOFFSETFROM:-0400
TZOFFSETTO:-0500
TZNAME:EST
DTSTART:20241103T060000
END:STANDARD
BEGIN:DAYLIGHT
TZOFFSETFROM:-0500
TZOFFSETTO:-0400
TZNAME:EDT
DTSTART:20250309T070000
END:DAYLIGHT
BEGIN:STANDARD
TZOFFSETFROM:-0400
TZOFFSETTO:-0500
TZNAME:EST
DTSTART:20251102T060000
END:STANDARD
BEGIN:DAYLIGHT
TZOFFSETFROM:-0500
TZOFFSETTO:-0400
TZNAME:EDT
DTSTART:20260308T070000
END:DAYLIGHT
BEGIN:STANDARD
TZOFFSETFROM:-0400
TZOFFSETTO:-0500
TZNAME:EST
DTSTART:20261101T060000
END:STANDARD
END:VTIMEZONE
BEGIN:VEVENT
DTSTART;TZID=America/New_York:20251007T103000
DTEND;TZID=America/New_York:20251007T133000
DTSTAMP:20260420T184016
CREATED:20250815T185409Z
LAST-MODIFIED:20250815T193123Z
UID:328630-1759833000-1759843800@www.ccbq.org
SUMMARY:Live It Up! Health Fair
DESCRIPTION:WHAT: Catholic Charities Brooklyn and Queens Community Outreach Services will host a Live it Up event in Queens\, offering fun and engaging activities for families.\n\n\n\n\n\n\nWHEN: Tuesday\, October 7th\, 2025 10:30 AM – 1:30 PM \nWHERE: Christ The King Roman Catholic Church\n145-39 Farmers Blvd.\, Springfield\, New York 11434 \nDETAILS: \n\nSponsored by Catholic Charities Brooklyn and Queens Community Outreach Services\nProduce Bags (While Supplies Last)\nCCBQ Mobile Outreach – SNAP\nCCBQ Geriatric Mental Health Initiative Program\nFree giveaways and more!\n\nRain or shine outdoor event. Space is limited\, so arrive on time. \nDownload the Live it Up Health Fair Event as a PDF in English\, Spanish or Creole.
URL:https://www.ccbq.org/event/live-it-up-health-fair-2/
LOCATION:Christ the King Church\, 145-39 Farmers Blvd.\, Jamaica\, NY\, 11434\, United States
ATTACH;FMTTYPE=image/png:https://www.ccbq.org/wp-content/uploads/2025/08/Screenshot-2025-08-15-145145.png
END:VEVENT
BEGIN:VEVENT
DTSTART;TZID=America/New_York:20241008T103000
DTEND;TZID=America/New_York:20241008T133000
DTSTAMP:20260420T184016
CREATED:20240809T183535Z
LAST-MODIFIED:20240827T160908Z
UID:322896-1728383400-1728394200@www.ccbq.org
SUMMARY:Live It Up: Christ The King
DESCRIPTION:WHAT: Catholic Charities Brooklyn and Queens Community Health and Wellness Services will host a Live it up! Community Wellness event in Queens featuring interactive health and wellness stations.\n\n\n\n\n\n\nWHEN: Tuesday\, October 8\, 2024 10:30 am – 1:30 pm \nWHERE: 145-39 Farmers Blvd. Jamaica\, NY 11434 \n\nHSM + La’dorch Home Care\nCatholic Charities Mobile Outreach- SNAP\nAmerican Red Cross\nProduce box (while supplies last)\nCatholic Charities Meals on Wheels\nFree giveaways and more!\n\n* Rain or shine. Outdoor event. Space is limited\, so arrive on time. Hosted by Catholic Charities Brooklyn and Queens Community Health & Wellness Services. \nDownload the October 8th Live It Up! event as a PDF in English\, Spanish and Creole.
URL:https://www.ccbq.org/event/live-it-up-christ-the-king/
LOCATION:Christ the King Church\, 145-39 Farmers Blvd.\, Jamaica\, NY\, 11434\, United States
ATTACH;FMTTYPE=image/png:https://www.ccbq.org/wp-content/uploads/2024/08/ChristTheKingLiveItUp-1.png
END:VEVENT
BEGIN:VEVENT
DTSTART;TZID=America/New_York:20231003T103000
DTEND;TZID=America/New_York:20231003T133000
DTSTAMP:20260420T184016
CREATED:20230829T172818Z
LAST-MODIFIED:20230830T170524Z
UID:319364-1696329000-1696339800@www.ccbq.org
SUMMARY:Live It Up!
DESCRIPTION:WHAT: Catholic Charities Brooklyn and Queens Community Health and Wellness Services will host a Live it up! Community Wellness event in Queens featuring interactive health and wellness stations.\n\n\n\n\n\n\nWHEN: Tuesday\, October 3rd\, 2023 10:30 AM- 1:30 PM \nWHERE: Christ The King Church145-39 Farmers Blvd. Jamaica\, NY 11434 \nDETAILS: \n\nDJ Music (sponsored by Aetna Medicare Solutions)\nLiberty Dental – dental screenings\nProduce box (while supplies last)\nFree giveaways and more…\n\n* Rain or shine. Outdoor event. Space is limited\, so arrive on time. Hosted by Catholic Charities Brooklyn and Queens Community Health & Wellness Services. \nDownload the October 3 Live It Up! Community Wellness Events Flyer as a PDF in English and Spanish.
URL:https://www.ccbq.org/event/live-it-up-3/
LOCATION:Christ the King Church\, 145-39 Farmers Blvd.\, Jamaica\, NY\, 11434\, United States
ATTACH;FMTTYPE=image/jpeg:https://www.ccbq.org/wp-content/uploads/2023/08/Screenshot-2023-08-30-130433.jpg
END:VEVENT
END:VCALENDAR