BEGIN:VCALENDAR
VERSION:2.0
PRODID:-//Catholic Charities of Brooklyn &amp; Queens - ECPv6.15.20//NONSGML v1.0//EN
CALSCALE:GREGORIAN
METHOD:PUBLISH
X-WR-CALNAME:Catholic Charities of Brooklyn &amp; Queens
X-ORIGINAL-URL:https://www.ccbq.org
X-WR-CALDESC:Events for Catholic Charities of Brooklyn &amp; Queens
REFRESH-INTERVAL;VALUE=DURATION:PT1H
X-Robots-Tag:noindex
X-PUBLISHED-TTL:PT1H
BEGIN:VTIMEZONE
TZID:America/New_York
BEGIN:DAYLIGHT
TZOFFSETFROM:-0500
TZOFFSETTO:-0400
TZNAME:EDT
DTSTART:20240310T070000
END:DAYLIGHT
BEGIN:STANDARD
TZOFFSETFROM:-0400
TZOFFSETTO:-0500
TZNAME:EST
DTSTART:20241103T060000
END:STANDARD
BEGIN:DAYLIGHT
TZOFFSETFROM:-0500
TZOFFSETTO:-0400
TZNAME:EDT
DTSTART:20250309T070000
END:DAYLIGHT
BEGIN:STANDARD
TZOFFSETFROM:-0400
TZOFFSETTO:-0500
TZNAME:EST
DTSTART:20251102T060000
END:STANDARD
BEGIN:DAYLIGHT
TZOFFSETFROM:-0500
TZOFFSETTO:-0400
TZNAME:EDT
DTSTART:20260308T070000
END:DAYLIGHT
BEGIN:STANDARD
TZOFFSETFROM:-0400
TZOFFSETTO:-0500
TZNAME:EST
DTSTART:20261101T060000
END:STANDARD
END:VTIMEZONE
BEGIN:VEVENT
DTSTART;TZID=America/New_York:20251219T093000
DTEND;TZID=America/New_York:20251219T120000
DTSTAMP:20260419T145128
CREATED:20241127T164451Z
LAST-MODIFIED:20251211T214611Z
UID:329329-1766136600-1766145600@www.ccbq.org
SUMMARY:Santa's Toy Shop - Queens
DESCRIPTION:WHAT: Catholic Charities Brooklyn and Queens’ Toy Distribution for Families in Need\n\n\n\n\n\n\nWHEN: Thursday\, December 18\, 9:00 am – 5:00 pm                            Friday\, December 19\, 9:30 am – 12:30 pm \nWALK-INS: \nThursday\, December 18 Walk-ins from 1:00 pm to 4:00 pm \nFriday\, December 19 Walk-ins from 9:30 am to 11:30 am \nWe will do our best accommodate walk-ins\, walk-ins are not guaranteed to get in. \nWHERE: St. Gabriel Roman Catholic Church 26-26 98th St.\, Queens\, NY 11369 \n* To RSVP: visit link below or scan code\nhttps://www.zeffy.com/en-US/ticketing/ccbq-christmas-toy-shop-2025-queens \n \nCatholic Charities Brooklyn and Queens Santa’s Toy Shop Guidelines! 🎄 \n\nA hard copy of the birth certificate MUST be presented for each child (birth–17).\nNo phone pictures accepted. Other child ID accepted only if it shows name and date of birth.\nNumber of gifts is based on proof of date of birth and proof shown.\nRegistration is for 1 adult per family. Bring photo ID.\nYou will be matched with a personal Elf Shopper. Only the Elf Shopper handles the gifts you choose.\nDress accordingly\, be prepared to wait outdoors\, and stay hydrated.\nNo children permitted in the Toy Shop area.\nBring a shopping bag and/or cart!\nMust live in Brooklyn or Queens.\nThere is a small set of stairs leading into the shops.\nWe will filter in waiting line guests as space allows.\n\n🎁 Gifts are based on donations received by CCBQ. \n❗ Please sign up ONLY ONCE — cannot go to both events! \nDownload the Queens Flyer as a PDF Here.
URL:https://www.ccbq.org/event/santas-toy-shop-queens/2025-12-19/
ATTACH;FMTTYPE=image/png:https://www.ccbq.org/wp-content/uploads/2025/11/Screenshot-2025-11-24-135143.png
END:VEVENT
BEGIN:VEVENT
DTSTART;TZID=America/New_York:20251218T090000
DTEND;TZID=America/New_York:20251218T170000
DTSTAMP:20260419T145128
CREATED:20241127T164451Z
LAST-MODIFIED:20251211T214610Z
UID:324035-1766048400-1766077200@www.ccbq.org
SUMMARY:Santa's Toy Shop - Queens
DESCRIPTION:WHAT: Catholic Charities Brooklyn and Queens’ Toy Distribution for Families in Need\n\n\n\n\n\n\nWHEN: Thursday\, December 18\, 9:00 am – 5:00 pm                            Friday\, December 19\, 9:30 am – 12:30 pm \nWALK-INS: \nThursday\, December 18 Walk-ins from 1:00 pm to 4:00 pm \nFriday\, December 19 Walk-ins from 9:30 am to 11:30 am \nWe will do our best accommodate walk-ins\, walk-ins are not guaranteed to get in. \nWHERE: St. Gabriel Roman Catholic Church 26-26 98th St.\, Queens\, NY 11369 \n* To RSVP: visit link below or scan code\nhttps://www.zeffy.com/en-US/ticketing/ccbq-christmas-toy-shop-2025-queens \n \nCatholic Charities Brooklyn and Queens Santa’s Toy Shop Guidelines! 🎄 \n\nA hard copy of the birth certificate MUST be presented for each child (birth–17).\nNo phone pictures accepted. Other child ID accepted only if it shows name and date of birth.\nNumber of gifts is based on proof of date of birth and proof shown.\nRegistration is for 1 adult per family. Bring photo ID.\nYou will be matched with a personal Elf Shopper. Only the Elf Shopper handles the gifts you choose.\nDress accordingly\, be prepared to wait outdoors\, and stay hydrated.\nNo children permitted in the Toy Shop area.\nBring a shopping bag and/or cart!\nMust live in Brooklyn or Queens.\nThere is a small set of stairs leading into the shops.\nWe will filter in waiting line guests as space allows.\n\n🎁 Gifts are based on donations received by CCBQ. \n❗ Please sign up ONLY ONCE — cannot go to both events! \nDownload the Queens Flyer as a PDF Here.
URL:https://www.ccbq.org/event/santas-toy-shop-queens/2025-12-18/
ATTACH;FMTTYPE=image/png:https://www.ccbq.org/wp-content/uploads/2025/11/Screenshot-2025-11-24-135143.png
END:VEVENT
BEGIN:VEVENT
DTSTART;TZID=America/New_York:20251021T120000
DTEND;TZID=America/New_York:20251021T150000
DTSTAMP:20260419T145128
CREATED:20250722T200112Z
LAST-MODIFIED:20250911T174615Z
UID:328421-1761048000-1761058800@www.ccbq.org
SUMMARY:Harvest Fest!
DESCRIPTION:WHAT: Catholic Charities Brooklyn and Queens Community Outreach Services will host an Autumn-themed community event in Queens\, offering resources and engaging activities for families.\n\n\n\n\n\n\nWHEN: Tuesday\, October 21st\, 2025 12:00 PM – 3:00 PM \nWHERE: Riverdale Osborne Towers Courtyard\n440 Watkins Street\, Brooklyn\, NY 11212 \nDETAILS: \n\nSponsored by Catholic Charities Brooklyn and Queens Community Outreach Services\nCCBQ Health and Wellness – Making Your Immunity Your Best Defense\nProduce Bag (While supplies last)\nCCBQ Mobile Outreach – SNAP\nCCBQ Geriatric Mental Health Initiative Program\nFree clothing and more!\n\nRain or shine outdoor event. Space is limited\, so arrive on time. \nDownload the Live it Up Health Fair Event as a PDF in English\, Spanish or Chinese.
URL:https://www.ccbq.org/event/kids-fun-day/
LOCATION:Riverdale Osborne Towers Courtyard\, 440 Watkins St\, Brooklyn\, NY\, 11212\, United States
ATTACH;FMTTYPE=image/png:https://www.ccbq.org/wp-content/uploads/2025/09/Screenshot-2025-09-11-093359.png
END:VEVENT
BEGIN:VEVENT
DTSTART;TZID=America/New_York:20251007T103000
DTEND;TZID=America/New_York:20251007T133000
DTSTAMP:20260419T145128
CREATED:20250815T185409Z
LAST-MODIFIED:20250815T193123Z
UID:328630-1759833000-1759843800@www.ccbq.org
SUMMARY:Live It Up! Health Fair
DESCRIPTION:WHAT: Catholic Charities Brooklyn and Queens Community Outreach Services will host a Live it Up event in Queens\, offering fun and engaging activities for families.\n\n\n\n\n\n\nWHEN: Tuesday\, October 7th\, 2025 10:30 AM – 1:30 PM \nWHERE: Christ The King Roman Catholic Church\n145-39 Farmers Blvd.\, Springfield\, New York 11434 \nDETAILS: \n\nSponsored by Catholic Charities Brooklyn and Queens Community Outreach Services\nProduce Bags (While Supplies Last)\nCCBQ Mobile Outreach – SNAP\nCCBQ Geriatric Mental Health Initiative Program\nFree giveaways and more!\n\nRain or shine outdoor event. Space is limited\, so arrive on time. \nDownload the Live it Up Health Fair Event as a PDF in English\, Spanish or Creole.
URL:https://www.ccbq.org/event/live-it-up-health-fair-2/
LOCATION:Christ the King Church\, 145-39 Farmers Blvd.\, Jamaica\, NY\, 11434\, United States
ATTACH;FMTTYPE=image/png:https://www.ccbq.org/wp-content/uploads/2025/08/Screenshot-2025-08-15-145145.png
END:VEVENT
BEGIN:VEVENT
DTSTART;TZID=America/New_York:20250930T143000
DTEND;TZID=America/New_York:20250930T170000
DTSTAMP:20260419T145128
CREATED:20250815T201737Z
LAST-MODIFIED:20250815T201738Z
UID:328639-1759242600-1759251600@www.ccbq.org
SUMMARY:Family Back-To-School Night
DESCRIPTION:WHAT: Catholic Charities Brooklyn and Queens Community Outreach Services will host a Family Back-To-School-Night and Resource Fair event in Queens\, offering fun and engaging activities for families.\n\n\n\n\n\n\nWHEN: Tuesday\, September  30th\, 2025 2:30 AM – 5:00 PM \nWHERE: PS/MS 105 The Bay School\n420 Beach 51st Street\, Far Rockaway\, New York 11691 \nDETAILS: \n\nSponsored by Catholic Charities Brooklyn and Queens Community Outreach Services\nFresh Produce (While Supplies Last)\nCCBQ Mobile Outreach – SNAP\nCatholic Charities Health and Wellness\nSpecial Appearance by St. Johns University Mascot Johnny Thunderbird\nFree clothing\, books and more!\n\nRain or shine outdoor event. Space is limited\, so arrive on time. \nDownload the Live it Up Health Fair Event as a PDF in English.
URL:https://www.ccbq.org/event/family-back-to-school-night/
LOCATION:PS/MS 105 The Bay School\, 420 Beach 51st Street\, Far Rockaway\, NY\, 11691\, United States
ATTACH;FMTTYPE=image/png:https://www.ccbq.org/wp-content/uploads/2025/08/Screenshot-2025-08-15-154007.png
END:VEVENT
BEGIN:VEVENT
DTSTART;TZID=America/New_York:20250731T080000
DTEND;TZID=America/New_York:20250731T170000
DTSTAMP:20260419T145128
CREATED:20250728T203112Z
LAST-MODIFIED:20250728T203220Z
UID:328496-1753948800-1753981200@www.ccbq.org
SUMMARY:Riverway Computer Class and Arts & Crafts 7/31
DESCRIPTION:Join us at Riverway Older Adult Center on Thursday\, July 31th for Computer Class\, Arts & Crafts and more! \nSee the Calendar below for more information.
URL:https://www.ccbq.org/event/riverway-computer-class-and-arts-crafts-7-31/
LOCATION:Riverway Innovative Senior Center
ATTACH;FMTTYPE=image/jpeg:https://www.ccbq.org/wp-content/uploads/2023/05/RiverwayFEAT.jpg
END:VEVENT
BEGIN:VEVENT
DTSTART;TZID=America/New_York:20250730T080000
DTEND;TZID=America/New_York:20250730T170000
DTSTAMP:20260419T145128
CREATED:20250728T202442Z
LAST-MODIFIED:20250728T202443Z
UID:328494-1753862400-1753894800@www.ccbq.org
SUMMARY:Riverway Cardio Fusion and Choir Rehearsal 7/30
DESCRIPTION:Join us at Riverway Older Adult Center on Wednesday\, July 30th for Cardio Fusion\, Choir Rehearsal and more! \nSee the Calendar below for more information.
URL:https://www.ccbq.org/event/riverway-cardio-fusion-and-choir-rehearsal-7-30/
LOCATION:Riverway Innovative Senior Center
ATTACH;FMTTYPE=image/jpeg:https://www.ccbq.org/wp-content/uploads/2023/05/RiverwayFEAT.jpg
END:VEVENT
BEGIN:VEVENT
DTSTART;TZID=America/New_York:20250729T080000
DTEND;TZID=America/New_York:20250729T170000
DTSTAMP:20260419T145128
CREATED:20250728T200827Z
LAST-MODIFIED:20250728T200828Z
UID:328492-1753776000-1753808400@www.ccbq.org
SUMMARY:Riverway Walking Club and Tai Chi 7/29
DESCRIPTION:Join us at Riverway Older Adult Center on Tuesday\, July 29th for Walking Club\, Tai Chi and more! \nSee the Calendar below for more information.
URL:https://www.ccbq.org/event/riverway-walking-club-and-tai-chi-7-29/
LOCATION:Riverway Innovative Senior Center
ATTACH;FMTTYPE=image/jpeg:https://www.ccbq.org/wp-content/uploads/2023/05/RiverwayFEAT.jpg
END:VEVENT
BEGIN:VEVENT
DTSTART;TZID=America/New_York:20250728T080000
DTEND;TZID=America/New_York:20250728T170000
DTSTAMP:20260419T145128
CREATED:20250728T195843Z
LAST-MODIFIED:20250728T195844Z
UID:328490-1753689600-1753722000@www.ccbq.org
SUMMARY:Riverway Aerobics and Bingo 7/28
DESCRIPTION:Join us at Riverway Older Adult Center on Monday\, July 28th for Aerobics\, Bingo and more! \nSee the Calendar below for more information.
URL:https://www.ccbq.org/event/riverway-aerobics-and-bingo-7-28/
LOCATION:Riverway Innovative Senior Center
ATTACH;FMTTYPE=image/jpeg:https://www.ccbq.org/wp-content/uploads/2023/05/RiverwayFEAT.jpg
END:VEVENT
BEGIN:VEVENT
DTSTART;TZID=America/New_York:20250725T080000
DTEND;TZID=America/New_York:20250725T170000
DTSTAMP:20260419T145128
CREATED:20250721T180202Z
LAST-MODIFIED:20250721T180203Z
UID:328369-1753430400-1753462800@www.ccbq.org
SUMMARY:Riverway Line Dancing and Painting 7/25
DESCRIPTION:Join us at Riverway Older Adult Center on Friday\, July 25th for Line Dancing\, Painting and more! \nSee the Calendar below for more information.
URL:https://www.ccbq.org/event/riverway-line-dancing-and-painting-7-25/
LOCATION:Riverway Innovative Senior Center
ATTACH;FMTTYPE=image/jpeg:https://www.ccbq.org/wp-content/uploads/2024/02/RiverwayFeaturedImage-e1729263522946.jpg
END:VEVENT
BEGIN:VEVENT
DTSTART;TZID=America/New_York:20250724T080000
DTEND;TZID=America/New_York:20250724T170000
DTSTAMP:20260419T145128
CREATED:20250721T174408Z
LAST-MODIFIED:20250721T174409Z
UID:328367-1753344000-1753376400@www.ccbq.org
SUMMARY:Riverway Computer Class and Arts & Crafts 7/24
DESCRIPTION:Join us at Riverway Older Adult Center on Thursday\, July 24th for Computer Class\, Arts & Crafts and more! \nSee the Calendar below for more information.
URL:https://www.ccbq.org/event/riverway-computer-class-and-arts-crafts-7-24/
LOCATION:Riverway Innovative Senior Center
ATTACH;FMTTYPE=image/jpeg:https://www.ccbq.org/wp-content/uploads/2024/02/RiverwayFeaturedImage-e1729263522946.jpg
END:VEVENT
BEGIN:VEVENT
DTSTART;TZID=America/New_York:20250723T080000
DTEND;TZID=America/New_York:20250723T170000
DTSTAMP:20260419T145128
CREATED:20250721T173413Z
LAST-MODIFIED:20250721T173414Z
UID:328365-1753257600-1753290000@www.ccbq.org
SUMMARY:Riverway Cardio Fusion and Choir Rehearsal 7/23
DESCRIPTION:Join us at Riverway Older Adult Center on Wednesday\, July 23rd for Cardio Fusion\, Choir Rehearsal and more! \nSee the Calendar below for more information.
URL:https://www.ccbq.org/event/riverway-cardio-fusion-and-choir-rehearsal-7-23/
LOCATION:Riverway Innovative Senior Center
ATTACH;FMTTYPE=image/jpeg:https://www.ccbq.org/wp-content/uploads/2024/02/RiverwayFeaturedImage-e1729263522946.jpg
END:VEVENT
BEGIN:VEVENT
DTSTART;TZID=America/New_York:20250722T080000
DTEND;TZID=America/New_York:20250722T170000
DTSTAMP:20260419T145128
CREATED:20250721T163147Z
LAST-MODIFIED:20250721T163148Z
UID:328363-1753171200-1753203600@www.ccbq.org
SUMMARY:Riverway Walking Club and Tai Chi 7/22
DESCRIPTION:Join us at Riverway Older Adult Center on Tuesday\, July 22nd for Walking Club\, Tai Chi and more! \nSee the Calendar below for more information.
URL:https://www.ccbq.org/event/riverway-walking-club-and-tai-chi-7-22/
LOCATION:Riverway Innovative Senior Center
ATTACH;FMTTYPE=image/jpeg:https://www.ccbq.org/wp-content/uploads/2024/02/RiverwayFeaturedImage-e1729263522946.jpg
END:VEVENT
BEGIN:VEVENT
DTSTART;TZID=America/New_York:20250721T080000
DTEND;TZID=America/New_York:20250721T170000
DTSTAMP:20260419T145128
CREATED:20250721T162142Z
LAST-MODIFIED:20250721T162143Z
UID:328361-1753084800-1753117200@www.ccbq.org
SUMMARY:Riverway Aerobics and Bingo 7/21
DESCRIPTION:Join us at Riverway Older Adult Center on Monday\, July 21st for Aerobics\, Bingo and more! \nSee the Calendar below for more information.
URL:https://www.ccbq.org/event/riverway-aerobics-and-bingo-7-21/
LOCATION:Riverway Innovative Senior Center
ATTACH;FMTTYPE=image/jpeg:https://www.ccbq.org/wp-content/uploads/2024/02/RiverwayFeaturedImage-e1729263522946.jpg
END:VEVENT
BEGIN:VEVENT
DTSTART;TZID=America/New_York:20250718T080000
DTEND;TZID=America/New_York:20250718T170000
DTSTAMP:20260419T145128
CREATED:20250715T140648Z
LAST-MODIFIED:20250715T140649Z
UID:328291-1752825600-1752858000@www.ccbq.org
SUMMARY:Riverway Line Dancing and Painting 7/18
DESCRIPTION:Join us at Riverway Older Adult Center on Friday\, July 18th for Line Dancing\, Painting and more! \nSee the Calendar below for more information.
URL:https://www.ccbq.org/event/riverway-line-dancing-and-painting-7-18/
LOCATION:Riverway Innovative Senior Center
ATTACH;FMTTYPE=image/jpeg:https://www.ccbq.org/wp-content/uploads/2024/02/RiverwayFeaturedImage-e1729263522946.jpg
END:VEVENT
BEGIN:VEVENT
DTSTART;TZID=America/New_York:20250717T080000
DTEND;TZID=America/New_York:20250717T170000
DTSTAMP:20260419T145128
CREATED:20250715T135959Z
LAST-MODIFIED:20250715T140001Z
UID:328289-1752739200-1752771600@www.ccbq.org
SUMMARY:Riverway Computer Class and Arts & Crafts 7/17
DESCRIPTION:Join us at Riverway Older Adult Center on Thursday\, July 17th for Computer Class\, Arts & Crafts and more! \nSee the Calendar below for more information.
URL:https://www.ccbq.org/event/riverway-computer-class-and-arts-crafts-7-17/
LOCATION:Riverway Innovative Senior Center
ATTACH;FMTTYPE=image/jpeg:https://www.ccbq.org/wp-content/uploads/2024/02/RiverwayFeaturedImage-e1729263522946.jpg
END:VEVENT
BEGIN:VEVENT
DTSTART;TZID=America/New_York:20250716T080000
DTEND;TZID=America/New_York:20250716T170000
DTSTAMP:20260419T145128
CREATED:20250715T135451Z
LAST-MODIFIED:20250715T135507Z
UID:328287-1752652800-1752685200@www.ccbq.org
SUMMARY:Riverway Cardio Fusion and Choir Rehearsal 7/16
DESCRIPTION:Join us at Riverway Older Adult Center on Wednesday\, July 16th for Cardio Fusion\, Choir Rehearsal and more! \nSee the Calendar below for more information.
URL:https://www.ccbq.org/event/riverway-cardio-fusion-and-choir-rehearsal-7-16/
LOCATION:Riverway Innovative Senior Center
ATTACH;FMTTYPE=image/jpeg:https://www.ccbq.org/wp-content/uploads/2024/02/RiverwayFeaturedImage-e1729263522946.jpg
END:VEVENT
BEGIN:VEVENT
DTSTART;TZID=America/New_York:20250715T080000
DTEND;TZID=America/New_York:20250715T170000
DTSTAMP:20260419T145128
CREATED:20250715T135249Z
LAST-MODIFIED:20250715T135250Z
UID:328285-1752566400-1752598800@www.ccbq.org
SUMMARY:Riverway Walking Club and Tai Chi 7/15
DESCRIPTION:Join us at Riverway Older Adult Center on Tuesday\, July 15th for Walking Club\, Tai Chi and more! \nSee the Calendar below for more information.
URL:https://www.ccbq.org/event/riverway-walking-club-and-tai-chi-7-15/
LOCATION:Riverway Innovative Senior Center
ATTACH;FMTTYPE=image/jpeg:https://www.ccbq.org/wp-content/uploads/2024/02/RiverwayFeaturedImage-e1729263522946.jpg
END:VEVENT
BEGIN:VEVENT
DTSTART;TZID=America/New_York:20250714T080000
DTEND;TZID=America/New_York:20250714T170000
DTSTAMP:20260419T145128
CREATED:20250715T134839Z
LAST-MODIFIED:20250715T134840Z
UID:328283-1752480000-1752512400@www.ccbq.org
SUMMARY:Riverway Aerobics and Bingo 7/14
DESCRIPTION:Join us at Riverway Older Adult Center on Monday\, July 14th for Aerobics\, Bingo and more! \nSee the Calendar below for more information.
URL:https://www.ccbq.org/event/riverway-aerobics-and-bingo-7-14/
LOCATION:Riverway Innovative Senior Center
ATTACH;FMTTYPE=image/jpeg:https://www.ccbq.org/wp-content/uploads/2024/02/RiverwayFeaturedImage-e1729263522946.jpg
END:VEVENT
BEGIN:VEVENT
DTSTART;TZID=America/New_York:20250711T080000
DTEND;TZID=America/New_York:20250711T170000
DTSTAMP:20260419T145128
CREATED:20250708T162210Z
LAST-MODIFIED:20250708T162211Z
UID:327212-1752220800-1752253200@www.ccbq.org
SUMMARY:Riverway Line Dancing and Painting 7/11
DESCRIPTION:Join us at Riverway Older Adult Center on Friday\, July 11th for Line Dancing\, Painting and more! \nSee the Calendar below for more information.
URL:https://www.ccbq.org/event/riverway-line-dancing-and-painting-7-11/
LOCATION:Riverway Innovative Senior Center
ATTACH;FMTTYPE=image/jpeg:https://www.ccbq.org/wp-content/uploads/2024/02/RiverwayFeaturedImage-e1729263522946.jpg
END:VEVENT
BEGIN:VEVENT
DTSTART;TZID=America/New_York:20250710T080000
DTEND;TZID=America/New_York:20250710T170000
DTSTAMP:20260419T145128
CREATED:20250708T161809Z
LAST-MODIFIED:20250708T161810Z
UID:327210-1752134400-1752166800@www.ccbq.org
SUMMARY:Riverway Computer Class and Arts & Crafts 7/10
DESCRIPTION:Join us at Riverway Older Adult Center on Thursday\, July 10th for Computer Class\, Arts & Crafts and more! \nSee the Calendar below for more information.
URL:https://www.ccbq.org/event/riverway-computer-class-and-arts-crafts-7-10/
LOCATION:Riverway Innovative Senior Center
ATTACH;FMTTYPE=image/jpeg:https://www.ccbq.org/wp-content/uploads/2024/02/RiverwayFeaturedImage-e1729263522946.jpg
END:VEVENT
BEGIN:VEVENT
DTSTART;TZID=America/New_York:20250709T080000
DTEND;TZID=America/New_York:20250709T170000
DTSTAMP:20260419T145128
CREATED:20250708T161124Z
LAST-MODIFIED:20250708T161125Z
UID:327208-1752048000-1752080400@www.ccbq.org
SUMMARY:Riverway Cardio Fusion and Choir Rehearsal 7/9
DESCRIPTION:Join us at Riverway Older Adult Center on Wednesday\, July 9th for Cardio Fusion\, Choir Rehearsal and more! \nSee the Calendar below for more information.
URL:https://www.ccbq.org/event/riverway-cardio-fusion-and-choir-rehearsal-7-9/
LOCATION:Riverway Innovative Senior Center
ATTACH;FMTTYPE=image/jpeg:https://www.ccbq.org/wp-content/uploads/2024/02/RiverwayFeaturedImage-e1729263522946.jpg
END:VEVENT
BEGIN:VEVENT
DTSTART;TZID=America/New_York:20250708T080000
DTEND;TZID=America/New_York:20250708T170000
DTSTAMP:20260419T145128
CREATED:20250708T160614Z
LAST-MODIFIED:20250708T160615Z
UID:327206-1751961600-1751994000@www.ccbq.org
SUMMARY:Riverway Walking Club and Tai Chi 7/8
DESCRIPTION:Join us at Riverway Older Adult Center on Tuesday\, July 8th for Walking Club\, Tai Chi and more! \nSee the Calendar below for more information.
URL:https://www.ccbq.org/event/riverway-walking-club-and-tai-chi-7-8/
LOCATION:Riverway Innovative Senior Center
ATTACH;FMTTYPE=image/jpeg:https://www.ccbq.org/wp-content/uploads/2024/02/RiverwayFeaturedImage-e1729263522946.jpg
END:VEVENT
BEGIN:VEVENT
DTSTART;TZID=America/New_York:20250707T080000
DTEND;TZID=America/New_York:20250707T170000
DTSTAMP:20260419T145128
CREATED:20250708T160309Z
LAST-MODIFIED:20250708T160310Z
UID:327204-1751875200-1751907600@www.ccbq.org
SUMMARY:Riverway Aerobics and Bingo 7/7
DESCRIPTION:Join us at Riverway Older Adult Center on Monday\, July 7th for Aerobics\, Bingo and more! \nSee the Calendar below for more information.
URL:https://www.ccbq.org/event/riverway-aerobics-and-bingo-7-7/
LOCATION:Riverway Innovative Senior Center
ATTACH;FMTTYPE=image/jpeg:https://www.ccbq.org/wp-content/uploads/2024/02/RiverwayFeaturedImage-e1729263522946.jpg
END:VEVENT
BEGIN:VEVENT
DTSTART;TZID=America/New_York:20250703T080000
DTEND;TZID=America/New_York:20250703T170000
DTSTAMP:20260419T145128
CREATED:20250702T184639Z
LAST-MODIFIED:20250702T184640Z
UID:327114-1751529600-1751562000@www.ccbq.org
SUMMARY:Riverway Computer Class and Arts & Crafts 7/3
DESCRIPTION:Join us at Riverway Older Adult Center on Thursday\, July 3rd for Computer Class\, Arts & Crafts and more! \nSee the Calendar below for more information.
URL:https://www.ccbq.org/event/riverway-computer-class-and-arts-crafts-7-3/
LOCATION:Riverway Innovative Senior Center
ATTACH;FMTTYPE=image/jpeg:https://www.ccbq.org/wp-content/uploads/2024/02/RiverwayFeaturedImage-e1729263522946.jpg
END:VEVENT
BEGIN:VEVENT
DTSTART;TZID=America/New_York:20250702T080000
DTEND;TZID=America/New_York:20250702T170000
DTSTAMP:20260419T145128
CREATED:20250702T184050Z
LAST-MODIFIED:20250702T184051Z
UID:327112-1751443200-1751475600@www.ccbq.org
SUMMARY:Riverway Cardio Fusion and Choir Rehearsal 7/2
DESCRIPTION:Join us at Riverway Older Adult Center on Wednesday\, July 2nd for Cardio Fusion\, Choir Rehearsal and more! \nSee the Calendar below for more information.
URL:https://www.ccbq.org/event/riverway-cardio-fusion-and-choir-rehearsal-7-2/
LOCATION:Riverway Innovative Senior Center
ATTACH;FMTTYPE=image/jpeg:https://www.ccbq.org/wp-content/uploads/2024/02/RiverwayFeaturedImage-e1729263522946.jpg
END:VEVENT
BEGIN:VEVENT
DTSTART;TZID=America/New_York:20250701T080000
DTEND;TZID=America/New_York:20250701T170000
DTSTAMP:20260419T145128
CREATED:20250702T183701Z
LAST-MODIFIED:20250702T183702Z
UID:327110-1751356800-1751389200@www.ccbq.org
SUMMARY:Riverway Walking Club and Tai Chi 7/1
DESCRIPTION:Join us at Riverway Older Adult Center on Tuesday\, July 1st for Walking Club\, Tai Chi and more! \nSee the Calendar below for more information.
URL:https://www.ccbq.org/event/riverway-walking-club-and-tai-chi-7-1/
LOCATION:Riverway Innovative Senior Center
ATTACH;FMTTYPE=image/jpeg:https://www.ccbq.org/wp-content/uploads/2024/02/RiverwayFeaturedImage-e1729263522946.jpg
END:VEVENT
BEGIN:VEVENT
DTSTART;TZID=America/New_York:20250701T080000
DTEND;TZID=America/New_York:20250701T170000
DTSTAMP:20260419T145128
CREATED:20250606T165547Z
LAST-MODIFIED:20250702T175602Z
UID:326743-1751356800-1751389200@www.ccbq.org
SUMMARY:Riverway July Trip List
DESCRIPTION:See the Calendar below for our July trips!
URL:https://www.ccbq.org/event/riverway-june-trip-list/
LOCATION:Riverway Innovative Senior Center
ATTACH;FMTTYPE=image/jpeg:https://www.ccbq.org/wp-content/uploads/2024/02/RiverwayFeaturedImage-e1729263522946.jpg
END:VEVENT
BEGIN:VEVENT
DTSTART;TZID=America/New_York:20250630T080000
DTEND;TZID=America/New_York:20250630T170000
DTSTAMP:20260419T145128
CREATED:20250623T203444Z
LAST-MODIFIED:20250623T203445Z
UID:326978-1751270400-1751302800@www.ccbq.org
SUMMARY:Riverway Computer Lab and Bingo 6/30
DESCRIPTION:Join us at Riverway Older Adult Center on Monday\, June 30th for Computer Lab\, Bingo and more! \nSee the Calendar below for more information.
URL:https://www.ccbq.org/event/riverway-computer-lab-and-bingo-6-30/
LOCATION:Riverway Innovative Senior Center
ATTACH;FMTTYPE=image/jpeg:https://www.ccbq.org/wp-content/uploads/2023/05/RiverwayFEAT.jpg
END:VEVENT
BEGIN:VEVENT
DTSTART;TZID=America/New_York:20250627T080000
DTEND;TZID=America/New_York:20250627T170000
DTSTAMP:20260419T145128
CREATED:20250620T181753Z
LAST-MODIFIED:20250620T181755Z
UID:326882-1751011200-1751043600@www.ccbq.org
SUMMARY:Riverway Drawing and Painting 6/27
DESCRIPTION:Join us at Riverway Older Adult Center on Friday\, June 27th for Drawing\, Painting and more! \nSee the Calendar below for more information.
URL:https://www.ccbq.org/event/riverway-drawing-and-painting-6-27/
LOCATION:Riverway Innovative Senior Center
ATTACH;FMTTYPE=image/jpeg:https://www.ccbq.org/wp-content/uploads/2023/05/RiverwayFEAT.jpg
END:VEVENT
END:VCALENDAR